BEGIN:VCALENDAR
VERSION:2.0
PRODID:-//Downtown Chagrin Falls - ECPv6.15.13.1//NONSGML v1.0//EN
CALSCALE:GREGORIAN
METHOD:PUBLISH
X-ORIGINAL-URL:https://downtownchagrinfalls.com
X-WR-CALDESC:Events for Downtown Chagrin Falls
REFRESH-INTERVAL;VALUE=DURATION:PT1H
X-Robots-Tag:noindex
X-PUBLISHED-TTL:PT1H
BEGIN:VTIMEZONE
TZID:America/New_York
BEGIN:DAYLIGHT
TZOFFSETFROM:-0500
TZOFFSETTO:-0400
TZNAME:EDT
DTSTART:20240310T070000
END:DAYLIGHT
BEGIN:STANDARD
TZOFFSETFROM:-0400
TZOFFSETTO:-0500
TZNAME:EST
DTSTART:20241103T060000
END:STANDARD
BEGIN:DAYLIGHT
TZOFFSETFROM:-0500
TZOFFSETTO:-0400
TZNAME:EDT
DTSTART:20250309T070000
END:DAYLIGHT
BEGIN:STANDARD
TZOFFSETFROM:-0400
TZOFFSETTO:-0500
TZNAME:EST
DTSTART:20251102T060000
END:STANDARD
BEGIN:DAYLIGHT
TZOFFSETFROM:-0500
TZOFFSETTO:-0400
TZNAME:EDT
DTSTART:20260308T070000
END:DAYLIGHT
BEGIN:STANDARD
TZOFFSETFROM:-0400
TZOFFSETTO:-0500
TZNAME:EST
DTSTART:20261101T060000
END:STANDARD
END:VTIMEZONE
BEGIN:VEVENT
DTSTART;TZID=America/New_York:20250718T173000
DTEND;TZID=America/New_York:20250718T200000
DTSTAMP:20260421T063235
CREATED:20250718T161422Z
LAST-MODIFIED:20250718T161422Z
UID:10002487-1752859800-1752868800@downtownchagrinfalls.com
SUMMARY:Heinen's Patio Live Music with The Bellville Quartet
DESCRIPTION:Start the weekend off right with a relaxing evening full of great music\, food and drink! \nJoin us in the tasting room or on the patio at Heinen’s Chagrin Falls and enjoy the sounds of “gypsy jazz” of the 1930s and contemporary pop in the 30s “hot jazz” style performed live by The Belleville Quartet. \nWhile you listen\, treat yourself to gourmet bites from our restaurant-style kitchen and sip on our selection of wine and beer on tap! \nNo entrance fee required. Food and beverage may be purchased separately.
URL:https://downtownchagrinfalls.com/event/heinens-patio-live-music-with-the-bellville-quartet/
LOCATION:Heinen’s\, 20 Shopping Plaza\, Chagrin Falls\, OH\, 44022\, United States
CATEGORIES:Live Music
ATTACH;FMTTYPE=image/jpeg:https://downtownchagrinfalls.com/wp-content/uploads/2025/07/Belleville-Quartet-2025.jpg
END:VEVENT
END:VCALENDAR