BEGIN:VCALENDAR
VERSION:2.0
PRODID:-//Downtown Chagrin Falls - ECPv6.15.13.1//NONSGML v1.0//EN
CALSCALE:GREGORIAN
METHOD:PUBLISH
X-WR-CALNAME:Downtown Chagrin Falls
X-ORIGINAL-URL:https://downtownchagrinfalls.com
X-WR-CALDESC:Events for Downtown Chagrin Falls
REFRESH-INTERVAL;VALUE=DURATION:PT1H
X-Robots-Tag:noindex
X-PUBLISHED-TTL:PT1H
BEGIN:VTIMEZONE
TZID:America/New_York
BEGIN:DAYLIGHT
TZOFFSETFROM:-0500
TZOFFSETTO:-0400
TZNAME:EDT
DTSTART:20240310T070000
END:DAYLIGHT
BEGIN:STANDARD
TZOFFSETFROM:-0400
TZOFFSETTO:-0500
TZNAME:EST
DTSTART:20241103T060000
END:STANDARD
BEGIN:DAYLIGHT
TZOFFSETFROM:-0500
TZOFFSETTO:-0400
TZNAME:EDT
DTSTART:20250309T070000
END:DAYLIGHT
BEGIN:STANDARD
TZOFFSETFROM:-0400
TZOFFSETTO:-0500
TZNAME:EST
DTSTART:20251102T060000
END:STANDARD
BEGIN:DAYLIGHT
TZOFFSETFROM:-0500
TZOFFSETTO:-0400
TZNAME:EDT
DTSTART:20260308T070000
END:DAYLIGHT
BEGIN:STANDARD
TZOFFSETFROM:-0400
TZOFFSETTO:-0500
TZNAME:EST
DTSTART:20261101T060000
END:STANDARD
END:VTIMEZONE
BEGIN:VEVENT
DTSTART;TZID=America/New_York:20250717T170000
DTEND;TZID=America/New_York:20250717T200000
DTSTAMP:20260419T151907
CREATED:20250708T185521Z
LAST-MODIFIED:20250708T185521Z
UID:10002408-1752771600-1752782400@downtownchagrinfalls.com
SUMMARY:Throwback Thursday- 1980s!
DESCRIPTION:Like\, oh my gosh — get ready to flash back in time! On Thursday\, July 17\, Chagrin Falls is totally turning up the nostalgia with our 80s-themed Third Thursday. Participating shops will be open late until 8pm\, decked out with righteous 80s-inspired window displays and throwback price specials that’ll make you feel like it’s 1984 again. Merchant staff will be dressed to impress in their best 80s wear — and we want YOU to dress up too! There’s a costume contest for shoppers with a $100 Shop Chagrin Falls Gift Card for the most bodacious look. Stick around for Sixteen Candles playing at dusk in Triangle Park\, and don’t miss the Blue Light Music Trivia happening every 30 minutes at surprise locations. More surprises around every corner! It’s gonna be totally radical — don’t miss it!
URL:https://downtownchagrinfalls.com/event/throwback-thursday-1980s/
LOCATION:Chagrin Falls\, Chagrin Falls\, OH\, 44022\, United States
CATEGORIES:Just Fun,Shopping
ATTACH;FMTTYPE=image/jpeg:https://downtownchagrinfalls.com/wp-content/uploads/2025/07/80s-night-CFMA.jpg
END:VEVENT
BEGIN:VEVENT
DTSTART;TZID=America/New_York:20250717T180000
DTEND;TZID=America/New_York:20250717T200000
DTSTAMP:20260419T151907
CREATED:20250708T194533Z
LAST-MODIFIED:20250708T194533Z
UID:10002424-1752775200-1752782400@downtownchagrinfalls.com
SUMMARY:CVCC Simple Summer Nights: Grunge DNA
DESCRIPTION:Our Simple Summer Nights Concert Series provides this special concert in partnership with our Sponsor- Lyndall Insurance\nCleveland’s premier 90’s rock and grunge band\, Grunge DNA debuts in Chagrin Falls Riverside Park! \nWe welcome Grunge DNA\, Cleveland’s Premier 90s Rock and Grunge Cover Band!Grunge DNA pays tribute to the bands that defined the alternative rock and grunge era of the 1990’s. Grunge DNA has a musical catalog of more than 150 songs- some of the most popular and recognizable songs from that era.\nBring your own chair and enjoy the music!
URL:https://downtownchagrinfalls.com/event/cvcc-simple-summer-nights-grunge-dna/
LOCATION:Riverside Park\, 78 Main Street\, Chagrin Falls\, OH\, 44022
CATEGORIES:Live Music
ATTACH;FMTTYPE=image/png:https://downtownchagrinfalls.com/wp-content/uploads/2025/07/2025ConcertFlyer-4.png
END:VEVENT
END:VCALENDAR