BEGIN:VCALENDAR
VERSION:2.0
PRODID:-//Downtown Chagrin Falls - ECPv6.15.13.1//NONSGML v1.0//EN
CALSCALE:GREGORIAN
METHOD:PUBLISH
X-WR-CALNAME:Downtown Chagrin Falls
X-ORIGINAL-URL:https://downtownchagrinfalls.com
X-WR-CALDESC:Events for Downtown Chagrin Falls
REFRESH-INTERVAL;VALUE=DURATION:PT1H
X-Robots-Tag:noindex
X-PUBLISHED-TTL:PT1H
BEGIN:VTIMEZONE
TZID:America/New_York
BEGIN:DAYLIGHT
TZOFFSETFROM:-0500
TZOFFSETTO:-0400
TZNAME:EDT
DTSTART:20240310T070000
END:DAYLIGHT
BEGIN:STANDARD
TZOFFSETFROM:-0400
TZOFFSETTO:-0500
TZNAME:EST
DTSTART:20241103T060000
END:STANDARD
BEGIN:DAYLIGHT
TZOFFSETFROM:-0500
TZOFFSETTO:-0400
TZNAME:EDT
DTSTART:20250309T070000
END:DAYLIGHT
BEGIN:STANDARD
TZOFFSETFROM:-0400
TZOFFSETTO:-0500
TZNAME:EST
DTSTART:20251102T060000
END:STANDARD
BEGIN:DAYLIGHT
TZOFFSETFROM:-0500
TZOFFSETTO:-0400
TZNAME:EDT
DTSTART:20260308T070000
END:DAYLIGHT
BEGIN:STANDARD
TZOFFSETFROM:-0400
TZOFFSETTO:-0500
TZNAME:EST
DTSTART:20261101T060000
END:STANDARD
END:VTIMEZONE
BEGIN:VEVENT
DTSTART;TZID=America/New_York:20250709T170000
DTEND;TZID=America/New_York:20250709T173000
DTSTAMP:20260419T151934
CREATED:20250708T190016Z
LAST-MODIFIED:20250708T190016Z
UID:10002409-1752080400-1752082200@downtownchagrinfalls.com
SUMMARY:Sage & Honey Ribbon Cutting Ceremony
DESCRIPTION:📚 Sage & Honey Grand Opening & Ribbon Cutting ✂️Join the Chagrin Valley Chamber of Commerce in celebrating the grand opening of Sage & Honey at their new location in the heart of downtown Chagrin Falls! \n📅 Wednesday\, July 9🕝 Time 5:00pm📍 10 E. Washington St\, Chagrin Falls\, OH 44022 \nKindly RSVP to:\ninfo.drivemktg@gmail.com \nStep into 2\,500 square feet of books\, brews\, and beauty! Sage & Honey is more than a bookstore; it’s a cozy\, creative community space where literature meets lifestyle. \n✨ Be part of the ribbon cutting\, meet owners Michelle and Kat\, tour the beautifully renovated space\, and get a first look at everything Sage & Honey has to offer. \n🍵 What you?ll find at Sage & Honey: \n\n\nA full café menu\, including handcrafted crepes and artisan tea service \n\n\nThoughtfully curated books and unique gifts \n\n\nFun features like Blind Date with a Book \n\n\nA calendar of book clubs and community events \n\n\nCozy corners perfect for relaxing or reading \n\n\nThe ability to rent the space for private gatherings or creative sessions \n\n\n📖 Whether you?re popping in for a cup of tea\, shopping for the perfect gift\, or joining a local book club\, Sage & Honey is your new home away from home. \n✅ This event is open to Chamber members\, community partners\, and the public. All are welcome! \nCome meet the Sage & Honey team and help us give them a warm Chagrin Valley Chamber welcome!
URL:https://downtownchagrinfalls.com/event/sage-honey-ribbon-cutting-ceremony/
LOCATION:Chagrin Falls\, Chagrin Falls\, OH\, 44022\, United States
CATEGORIES:Shopping
ATTACH;FMTTYPE=image/jpeg:https://downtownchagrinfalls.com/wp-content/uploads/2025/07/EventPhotoMini_IMG_2915-1-e1747789628704.jpg
END:VEVENT
END:VCALENDAR