BEGIN:VCALENDAR
VERSION:2.0
PRODID:-//Downtown Chagrin Falls - ECPv6.15.13.1//NONSGML v1.0//EN
CALSCALE:GREGORIAN
METHOD:PUBLISH
X-WR-CALNAME:Downtown Chagrin Falls
X-ORIGINAL-URL:https://downtownchagrinfalls.com
X-WR-CALDESC:Events for Downtown Chagrin Falls
REFRESH-INTERVAL;VALUE=DURATION:PT1H
X-Robots-Tag:noindex
X-PUBLISHED-TTL:PT1H
BEGIN:VTIMEZONE
TZID:America/New_York
BEGIN:DAYLIGHT
TZOFFSETFROM:-0500
TZOFFSETTO:-0400
TZNAME:EDT
DTSTART:20240310T070000
END:DAYLIGHT
BEGIN:STANDARD
TZOFFSETFROM:-0400
TZOFFSETTO:-0500
TZNAME:EST
DTSTART:20241103T060000
END:STANDARD
BEGIN:DAYLIGHT
TZOFFSETFROM:-0500
TZOFFSETTO:-0400
TZNAME:EDT
DTSTART:20250309T070000
END:DAYLIGHT
BEGIN:STANDARD
TZOFFSETFROM:-0400
TZOFFSETTO:-0500
TZNAME:EST
DTSTART:20251102T060000
END:STANDARD
BEGIN:DAYLIGHT
TZOFFSETFROM:-0500
TZOFFSETTO:-0400
TZNAME:EDT
DTSTART:20260308T070000
END:DAYLIGHT
BEGIN:STANDARD
TZOFFSETFROM:-0400
TZOFFSETTO:-0500
TZNAME:EST
DTSTART:20261101T060000
END:STANDARD
END:VTIMEZONE
BEGIN:VEVENT
DTSTART;TZID=America/New_York:20250517T090000
DTEND;TZID=America/New_York:20250517T120000
DTSTAMP:20260419T184729
CREATED:20250718T155044Z
LAST-MODIFIED:20250718T155044Z
UID:10002441-1747472400-1747483200@downtownchagrinfalls.com
SUMMARY:Geauga Fresh Farmers Market
DESCRIPTION:It’s our 21st season!  We are ready to showcase our areas finest farmers\, bakers\, makers & artisans to YOU!  Depending on the month\, we celebrate the bounty of our harvests.  Our calendars are getting full with Blueberry Day\, Kid’s Market\, Tomato Day\, Corn Day & Fall Harvest Day!  Stop by for a longstanding community market\, we look forward to serving you.\n\nStarted in 2002 the Geauga Fresh Farmers’ Market is producer-only farmers’ market operating year round in Geauga County. The market is board run\, which includes community members & vendors.  We strive to provide you with fresh\, local and real products made or grown by people you can actually talk to.\n\n \nThe purpose of the Geauga Fresh Market is to provide local farmers with a means to sell their produce or value added products directly to consumers\, and to afford consumers the opportunity to buy fresh\, locally grown food. A market that allows farmers to sell directly to consumers will help to support a farm economy in Geauga County. Increasing the profitability of local farms will enable more farms to continue to operate rather than to be lost to development. By promoting the preservation of farmland in Geauga County\, the rural character of the county will remain for all to enjoy. \n \nBy bringing the freshest Geauga County produce and locally made products to the consumer on a weekly basis the Market will encourage customers to value and understand the benefits of supporting our local agricultural economy. The market aims at educating consumers by reconnecting them with their food and where it comes from\, by providing them with higher quality\, more variety and a sense of seasonality. \n \n2025 Geauga Fresh Farmers’ Market Board:\nBryan Briggs\, BB Farms (Vice President)\nKelli Hanley Potts\, Cleveland Field Kitchen\nTiffany O’Neill\, Bainbridge Blooms (Secretary)\nMichael Pizmoht\, Sherwin Williams (Treasurer)\nJacque Thompson\, Wildroots Within (President)\nKarin Wright\, Wright Family Farms\n \nMarket Manager:\nTiffany Mushrush Mentzer\, Harvest Bell Farm\n \nVolunteer Village Representative:\nMayor Bill Koons\, South Russell Village Rep.
URL:https://downtownchagrinfalls.com/event/geauga-fresh-farmers-market/2025-05-17/
LOCATION:5205 Chillicothe Road\, South Russell\, OH\, 5205 Chillicothe Road\, South Russell\, OH\, 44022\, United States
CATEGORIES:Farmers Market
ATTACH;FMTTYPE=image/webp:https://downtownchagrinfalls.com/wp-content/uploads/2023/09/Geauga_Fresh_Logo_2022_1200x.webp
ORGANIZER;CN="Geauga Fresh Farmers Market":MAILTO:geaugaffm@gmail.com
END:VEVENT
END:VCALENDAR