BEGIN:VCALENDAR
VERSION:2.0
PRODID:-//Downtown Chagrin Falls - ECPv6.15.13.1//NONSGML v1.0//EN
CALSCALE:GREGORIAN
METHOD:PUBLISH
X-WR-CALNAME:Downtown Chagrin Falls
X-ORIGINAL-URL:https://downtownchagrinfalls.com
X-WR-CALDESC:Events for Downtown Chagrin Falls
REFRESH-INTERVAL;VALUE=DURATION:PT1H
X-Robots-Tag:noindex
X-PUBLISHED-TTL:PT1H
BEGIN:VTIMEZONE
TZID:America/New_York
BEGIN:DAYLIGHT
TZOFFSETFROM:-0500
TZOFFSETTO:-0400
TZNAME:EDT
DTSTART:20230312T070000
END:DAYLIGHT
BEGIN:STANDARD
TZOFFSETFROM:-0400
TZOFFSETTO:-0500
TZNAME:EST
DTSTART:20231105T060000
END:STANDARD
BEGIN:DAYLIGHT
TZOFFSETFROM:-0500
TZOFFSETTO:-0400
TZNAME:EDT
DTSTART:20240310T070000
END:DAYLIGHT
BEGIN:STANDARD
TZOFFSETFROM:-0400
TZOFFSETTO:-0500
TZNAME:EST
DTSTART:20241103T060000
END:STANDARD
BEGIN:DAYLIGHT
TZOFFSETFROM:-0500
TZOFFSETTO:-0400
TZNAME:EDT
DTSTART:20250309T070000
END:DAYLIGHT
BEGIN:STANDARD
TZOFFSETFROM:-0400
TZOFFSETTO:-0500
TZNAME:EST
DTSTART:20251102T060000
END:STANDARD
END:VTIMEZONE
BEGIN:VEVENT
DTSTART;TZID=America/New_York:20240224T100000
DTEND;TZID=America/New_York:20240224T130000
DTSTAMP:20260420T024753
CREATED:20230928T234123Z
LAST-MODIFIED:20230928T234123Z
UID:10001359-1708768800-1708779600@downtownchagrinfalls.com
SUMMARY:Geauga Fresh Farmers' Winter Market
DESCRIPTION:Geauga Fresh Farmers’ Market is a producer-only farmers’ market offering a wide variety of produce\, meat\, and other local goods. We are happy to host the Winter Market from November to March \nWinter Market  Saturdays 10:00 AM – 1:00 PM in  Lowe’s greenhouse!
URL:https://downtownchagrinfalls.com/event/geauga-fresh-farmers-winter-market/2024-02-24/
LOCATION:Chagrin Falls\, Chagrin Falls\, OH\, 44022\, United States
CATEGORIES:Farmers Market
ATTACH;FMTTYPE=image/webp:https://downtownchagrinfalls.com/wp-content/uploads/2023/09/Geauga_Fresh_Logo_2022_1200x.webp
END:VEVENT
BEGIN:VEVENT
DTSTART;TZID=America/New_York:20240224T190000
DTEND;TZID=America/New_York:20240224T190000
DTSTAMP:20260420T024753
CREATED:20230928T002207Z
LAST-MODIFIED:20230928T002533Z
UID:10001312-1708801200-1708801200@downtownchagrinfalls.com
SUMMARY:Celebrating Black History Month: Sonya Headlam\, Soprano
DESCRIPTION:Join us for a tour de force of art songs and spirituals! The remarkable soprano\, Sonya Headlam\, will take us on a historic journey exploring music from the 18th – 20th Centuries entirely by black composers. A night that promises to be powerful\, uplifting\, and informative surely not to be missed! A reception will follow the program! \nFor more information contact\, jkonow@fedchurch.org or call 440.247.6490 x 120.
URL:https://downtownchagrinfalls.com/event/celebrating-black-history-month-sonya-headlam-soprano/
LOCATION:Federated Church\, 76 Bell Street\, Chagrin Falls\, OH\, 44022\, United States
CATEGORIES:Live Music
ATTACH;FMTTYPE=image/png:https://downtownchagrinfalls.com/wp-content/uploads/2023/09/Untitled-design-35.png
END:VEVENT
END:VCALENDAR