BEGIN:VCALENDAR
VERSION:2.0
PRODID:-//Downtown Chagrin Falls - ECPv6.15.13.1//NONSGML v1.0//EN
CALSCALE:GREGORIAN
METHOD:PUBLISH
X-ORIGINAL-URL:https://downtownchagrinfalls.com
X-WR-CALDESC:Events for Downtown Chagrin Falls
REFRESH-INTERVAL;VALUE=DURATION:PT1H
X-Robots-Tag:noindex
X-PUBLISHED-TTL:PT1H
BEGIN:VTIMEZONE
TZID:America/New_York
BEGIN:DAYLIGHT
TZOFFSETFROM:-0500
TZOFFSETTO:-0400
TZNAME:EDT
DTSTART:20220313T070000
END:DAYLIGHT
BEGIN:STANDARD
TZOFFSETFROM:-0400
TZOFFSETTO:-0500
TZNAME:EST
DTSTART:20221106T060000
END:STANDARD
BEGIN:DAYLIGHT
TZOFFSETFROM:-0500
TZOFFSETTO:-0400
TZNAME:EDT
DTSTART:20230312T070000
END:DAYLIGHT
BEGIN:STANDARD
TZOFFSETFROM:-0400
TZOFFSETTO:-0500
TZNAME:EST
DTSTART:20231105T060000
END:STANDARD
BEGIN:DAYLIGHT
TZOFFSETFROM:-0500
TZOFFSETTO:-0400
TZNAME:EDT
DTSTART:20240310T070000
END:DAYLIGHT
BEGIN:STANDARD
TZOFFSETFROM:-0400
TZOFFSETTO:-0500
TZNAME:EST
DTSTART:20241103T060000
END:STANDARD
END:VTIMEZONE
BEGIN:VEVENT
DTSTART;TZID=America/New_York:20231217T140000
DTEND;TZID=America/New_York:20231217T170000
DTSTAMP:20260419T152147
CREATED:20230927T223037Z
LAST-MODIFIED:20230927T223037Z
UID:10001294-1702821600-1702832400@downtownchagrinfalls.com
SUMMARY:Elf\, The Musical - Encore!
DESCRIPTION:In 2022\, CVLT broke box office records by selling out the entire run of “Elf\, the Musical” before the curtain had risen on opening night! Audiences raved\, but many were disappointed at being unable to get a ticket. This year for Christmas\, we’re giving you a gift: Buddy is back! CVLT presents this encore production with many of the cast returning\, including John Kolar in the title role. \nAdapted from one of the most beloved modern Christmas movies\, “Elf the Musical” transforms the story (originally a vehicle for actor Will Farrell) into a theatrical holiday treat for the whole family. “Elf” features songs by the Tony Award nominated Matthew Sklar and Chad Beguelin (Disney’s Aladdin on Broadway\, The Wedding Singer) and a script by Tony Award winners Thomas Meehan (Annie\, The Producers\, Hairspray) and Bob Martin (The Drowsy Chaperone). The New York Times called it “splashy\, peppy\, sugar-sprinkled holiday entertainment!” and Variety said “ELF is happy enough for families\, savvy enough for city kids and plenty smart for adults!” \nChagrin Valley Little Theatre’s production runs weekends from November 17 through December 17\, with performances on Fridays\, Saturdays and select Sundays. Evening performances begin at 7:30 PM on Fridays Nov. 17 & 24\, Dec. 1\, 8 & 15 as well as Saturdays Nov. 25\, & Dec. 9. Matinees at 2 PM on Saturdays Nov. 18\, Dec. 2 & 16\, and Sundays Nov. 26\, Dec. 3\, 10\, & 17. Tickets are $21 with a $4 discount for students\, seniors\, and military. Advance reservations and early arrival are highly recommended\, as sellouts are anticipated once again! \nNOVEMBER 26 – FRIENDS OF WOMENSAFE SPONSORED PERFORMANCE\nJunction Auto Family is sponsoring the 11/26 performance as a fundraiser for Friends of WomenSafe. Free refreshments and cookies included. This performance’s free concessions provided by WomenSafe.
URL:https://downtownchagrinfalls.com/event/elf-the-musical-encore/2023-12-17/
LOCATION:Chagrin Valley Little Theatre\, 40 River Street\, Chagrin Falls\, OH\, 44022\, United States
CATEGORIES:Theater
ATTACH;FMTTYPE=image/jpeg:https://downtownchagrinfalls.com/wp-content/uploads/2023/09/SQ-Elf-e1692279721122-300x300-1.jpg
ORGANIZER;CN="Chagrin Valley Little Theatre":MAILTO:cvlt@cvlt.org
END:VEVENT
END:VCALENDAR