BEGIN:VCALENDAR
VERSION:2.0
PRODID:-//Downtown Chagrin Falls - ECPv6.15.13.1//NONSGML v1.0//EN
CALSCALE:GREGORIAN
METHOD:PUBLISH
X-ORIGINAL-URL:https://downtownchagrinfalls.com
X-WR-CALDESC:Events for Downtown Chagrin Falls
REFRESH-INTERVAL;VALUE=DURATION:PT1H
X-Robots-Tag:noindex
X-PUBLISHED-TTL:PT1H
BEGIN:VTIMEZONE
TZID:America/New_York
BEGIN:DAYLIGHT
TZOFFSETFROM:-0500
TZOFFSETTO:-0400
TZNAME:EDT
DTSTART:20220313T070000
END:DAYLIGHT
BEGIN:STANDARD
TZOFFSETFROM:-0400
TZOFFSETTO:-0500
TZNAME:EST
DTSTART:20221106T060000
END:STANDARD
BEGIN:DAYLIGHT
TZOFFSETFROM:-0500
TZOFFSETTO:-0400
TZNAME:EDT
DTSTART:20230312T070000
END:DAYLIGHT
BEGIN:STANDARD
TZOFFSETFROM:-0400
TZOFFSETTO:-0500
TZNAME:EST
DTSTART:20231105T060000
END:STANDARD
BEGIN:DAYLIGHT
TZOFFSETFROM:-0500
TZOFFSETTO:-0400
TZNAME:EDT
DTSTART:20240310T070000
END:DAYLIGHT
BEGIN:STANDARD
TZOFFSETFROM:-0400
TZOFFSETTO:-0500
TZNAME:EST
DTSTART:20241103T060000
END:STANDARD
END:VTIMEZONE
BEGIN:VEVENT
DTSTART;TZID=America/New_York:20231103T100000
DTEND;TZID=America/New_York:20231215T170000
DTSTAMP:20260420T004215
CREATED:20231102T135617Z
LAST-MODIFIED:20231102T140452Z
UID:10001901-1699005600-1702659600@downtownchagrinfalls.com
SUMMARY:52nd Annual Juried Art Exhibition
DESCRIPTION:Jurors:\nMcKenzie Beynon\, Founder & Co-Owner\, Kink Contemporary\nAnastasia Pantsios\, Photographer & Editor\, CoolCleveland.com\nGina Washington\, Art Instructor & Co-Founder\, The Visit Arts Collective\n\n\nFeaturing a diverse array of 58 remarkable pieces\, this year’s exhibition offers a vibrant spectrum of artistic expression. From classical tastes encompassing oil paintings and landscapes to avant-garde sculptures pushing the boundaries of creativity\, there is something to captivate every art enthusiast. The 52nd Annual Juried Art Exhibition at Valley Art Center is a celebration of artistic diversity\, a testament to the ever-evolving landscape of contemporary art. We invite all art enthusiasts to explore this fusion of visual and literary artistry. \nReturning this year is the partnership with Heights Arts\, culminating in the Ekphrastacy – Artists Talk + Poets Respond event scheduled for December 1 at 6pm. The current Cleveland Heights Poet Laureate\, Siaara Freeman\, and a cadre of accomplished poets are guiding this creative exchange of visual and spoken word artistry. \nTogether\, they will craft and recite poems directly inspired by the captivating artworks on display at the 52nd Annual Juried Art Exhibition\, weaving a harmonious tapestry of artistic expression. “Ekphrastacy at its core is an interactive art process\,” says Siaara Freeman. “It is a chance for artists to become familiar with one another’s work alongside the opportunity to explore new mediums and methods of creation.” The tradition of the Cleveland Heights Poet Laureate\, conferred by Heights Arts\, continues to thrive as the longest-running poet laureate program in the state. Ekphrastacy – Artists Talk + Poets Respond event\, as well as the Opening Reception\, are free to the public.
URL:https://downtownchagrinfalls.com/event/52nd-annual-juried-art-exhibition-opening-2/
LOCATION:Valley Art Center\, 155 Bell Street\, Chagrin Falls\, OH\, 44022\, United States
CATEGORIES:Art,Ongoing Exhibits
ATTACH;FMTTYPE=image/png:https://downtownchagrinfalls.com/wp-content/uploads/2023/11/Untitled-design-63.png
END:VEVENT
BEGIN:VEVENT
DTSTART;TZID=America/New_York:20231208T080000
DTEND;TZID=America/New_York:20231208T170000
DTSTAMP:20260420T004215
CREATED:20230927T223037Z
LAST-MODIFIED:20230927T223037Z
UID:10001289-1702022400-1702054800@downtownchagrinfalls.com
SUMMARY:Elf\, The Musical - Encore!
DESCRIPTION:In 2022\, CVLT broke box office records by selling out the entire run of “Elf\, the Musical” before the curtain had risen on opening night! Audiences raved\, but many were disappointed at being unable to get a ticket. This year for Christmas\, we’re giving you a gift: Buddy is back! CVLT presents this encore production with many of the cast returning\, including John Kolar in the title role. \nAdapted from one of the most beloved modern Christmas movies\, “Elf the Musical” transforms the story (originally a vehicle for actor Will Farrell) into a theatrical holiday treat for the whole family. “Elf” features songs by the Tony Award nominated Matthew Sklar and Chad Beguelin (Disney’s Aladdin on Broadway\, The Wedding Singer) and a script by Tony Award winners Thomas Meehan (Annie\, The Producers\, Hairspray) and Bob Martin (The Drowsy Chaperone). The New York Times called it “splashy\, peppy\, sugar-sprinkled holiday entertainment!” and Variety said “ELF is happy enough for families\, savvy enough for city kids and plenty smart for adults!” \nChagrin Valley Little Theatre’s production runs weekends from November 17 through December 17\, with performances on Fridays\, Saturdays and select Sundays. Evening performances begin at 7:30 PM on Fridays Nov. 17 & 24\, Dec. 1\, 8 & 15 as well as Saturdays Nov. 25\, & Dec. 9. Matinees at 2 PM on Saturdays Nov. 18\, Dec. 2 & 16\, and Sundays Nov. 26\, Dec. 3\, 10\, & 17. Tickets are $21 with a $4 discount for students\, seniors\, and military. Advance reservations and early arrival are highly recommended\, as sellouts are anticipated once again! \nNOVEMBER 26 – FRIENDS OF WOMENSAFE SPONSORED PERFORMANCE\nJunction Auto Family is sponsoring the 11/26 performance as a fundraiser for Friends of WomenSafe. Free refreshments and cookies included. This performance’s free concessions provided by WomenSafe.
URL:https://downtownchagrinfalls.com/event/elf-the-musical-encore/2023-12-08/
LOCATION:Chagrin Valley Little Theatre\, 40 River Street\, Chagrin Falls\, OH\, 44022\, United States
CATEGORIES:Theater
ATTACH;FMTTYPE=image/jpeg:https://downtownchagrinfalls.com/wp-content/uploads/2023/09/SQ-Elf-e1692279721122-300x300-1.jpg
ORGANIZER;CN="Chagrin Valley Little Theatre":MAILTO:cvlt@cvlt.org
END:VEVENT
BEGIN:VEVENT
DTSTART;TZID=America/New_York:20231208T213000
DTEND;TZID=America/New_York:20231208T213000
DTSTAMP:20260420T004215
CREATED:20231115T234216Z
LAST-MODIFIED:20231115T234216Z
UID:10002366-1702071000-1702071000@downtownchagrinfalls.com
SUMMARY:Greenville Inn: Miles Road Band
DESCRIPTION:
URL:https://downtownchagrinfalls.com/event/greenville-inn-miles-road-band-2/
LOCATION:Greenville Inn\, 7125 Pine Street\, Bainbridge\, OH\, 44022\, United States
CATEGORIES:Live Music
ATTACH;FMTTYPE=image/jpeg:https://downtownchagrinfalls.com/wp-content/uploads/2020/01/701996_531299547049611_2525855313655233065_o.jpg
END:VEVENT
END:VCALENDAR