BEGIN:VCALENDAR
VERSION:2.0
PRODID:-//Downtown Chagrin Falls - ECPv6.15.13.1//NONSGML v1.0//EN
CALSCALE:GREGORIAN
METHOD:PUBLISH
X-WR-CALNAME:Downtown Chagrin Falls
X-ORIGINAL-URL:https://downtownchagrinfalls.com
X-WR-CALDESC:Events for Downtown Chagrin Falls
REFRESH-INTERVAL;VALUE=DURATION:PT1H
X-Robots-Tag:noindex
X-PUBLISHED-TTL:PT1H
BEGIN:VTIMEZONE
TZID:America/New_York
BEGIN:DAYLIGHT
TZOFFSETFROM:-0500
TZOFFSETTO:-0400
TZNAME:EDT
DTSTART:20220313T070000
END:DAYLIGHT
BEGIN:STANDARD
TZOFFSETFROM:-0400
TZOFFSETTO:-0500
TZNAME:EST
DTSTART:20221106T060000
END:STANDARD
BEGIN:DAYLIGHT
TZOFFSETFROM:-0500
TZOFFSETTO:-0400
TZNAME:EDT
DTSTART:20230312T070000
END:DAYLIGHT
BEGIN:STANDARD
TZOFFSETFROM:-0400
TZOFFSETTO:-0500
TZNAME:EST
DTSTART:20231105T060000
END:STANDARD
BEGIN:DAYLIGHT
TZOFFSETFROM:-0500
TZOFFSETTO:-0400
TZNAME:EDT
DTSTART:20240310T070000
END:DAYLIGHT
BEGIN:STANDARD
TZOFFSETFROM:-0400
TZOFFSETTO:-0500
TZNAME:EST
DTSTART:20241103T060000
END:STANDARD
END:VTIMEZONE
BEGIN:VEVENT
DTSTART;TZID=America/New_York:20231103T100000
DTEND;TZID=America/New_York:20231215T170000
DTSTAMP:20260419T151938
CREATED:20231102T135617Z
LAST-MODIFIED:20231102T140452Z
UID:10001901-1699005600-1702659600@downtownchagrinfalls.com
SUMMARY:52nd Annual Juried Art Exhibition
DESCRIPTION:Jurors:\nMcKenzie Beynon\, Founder & Co-Owner\, Kink Contemporary\nAnastasia Pantsios\, Photographer & Editor\, CoolCleveland.com\nGina Washington\, Art Instructor & Co-Founder\, The Visit Arts Collective\n\n\nFeaturing a diverse array of 58 remarkable pieces\, this year’s exhibition offers a vibrant spectrum of artistic expression. From classical tastes encompassing oil paintings and landscapes to avant-garde sculptures pushing the boundaries of creativity\, there is something to captivate every art enthusiast. The 52nd Annual Juried Art Exhibition at Valley Art Center is a celebration of artistic diversity\, a testament to the ever-evolving landscape of contemporary art. We invite all art enthusiasts to explore this fusion of visual and literary artistry. \nReturning this year is the partnership with Heights Arts\, culminating in the Ekphrastacy – Artists Talk + Poets Respond event scheduled for December 1 at 6pm. The current Cleveland Heights Poet Laureate\, Siaara Freeman\, and a cadre of accomplished poets are guiding this creative exchange of visual and spoken word artistry. \nTogether\, they will craft and recite poems directly inspired by the captivating artworks on display at the 52nd Annual Juried Art Exhibition\, weaving a harmonious tapestry of artistic expression. “Ekphrastacy at its core is an interactive art process\,” says Siaara Freeman. “It is a chance for artists to become familiar with one another’s work alongside the opportunity to explore new mediums and methods of creation.” The tradition of the Cleveland Heights Poet Laureate\, conferred by Heights Arts\, continues to thrive as the longest-running poet laureate program in the state. Ekphrastacy – Artists Talk + Poets Respond event\, as well as the Opening Reception\, are free to the public.
URL:https://downtownchagrinfalls.com/event/52nd-annual-juried-art-exhibition-opening-2/
LOCATION:Valley Art Center\, 155 Bell Street\, Chagrin Falls\, OH\, 44022\, United States
CATEGORIES:Art,Ongoing Exhibits
ATTACH;FMTTYPE=image/png:https://downtownchagrinfalls.com/wp-content/uploads/2023/11/Untitled-design-63.png
END:VEVENT
BEGIN:VEVENT
DTSTART;TZID=America/New_York:20231207T170000
DTEND;TZID=America/New_York:20231207T170000
DTSTAMP:20260419T151938
CREATED:20231115T171649Z
LAST-MODIFIED:20231115T235241Z
UID:10002338-1701968400-1701968400@downtownchagrinfalls.com
SUMMARY:Menorah at the Falls
DESCRIPTION:Join us on Thursday\, December 7th at 5:00 PM for the annual grand Chanukah celebration in the heart of Chagrin Falls.\nTHE 9-FOOT TALL MENORAH WILL BE LIT IN RIVERSIDE PARK ACCOMPANIED BY A SPECTACULAR LED LIGHT SHOW.\nFOLLOWING THE LIGHTING\, THE PARTY CONTINUES ACROSS THE STREET IN TOWNSHIP HALL\, WITH FUN FOR THE WHOLE FAMILY.\nEnjoy hot latkes\, donuts and other refreshments\, as well as children’s crafts\, activities\, a photobooth and Chanukah music.\nFree and open to all. RSVPs help us prepare\, walk-ins welcome.
URL:https://downtownchagrinfalls.com/event/menorah-at-the-falls/
LOCATION:Riverside Park\, 78 Main Street\, Chagrin Falls\, OH\, 44022
CATEGORIES:Community,Holiday
ATTACH;FMTTYPE=image/png:https://downtownchagrinfalls.com/wp-content/uploads/2023/11/New-Hamlet-Sale-1.png
END:VEVENT
BEGIN:VEVENT
DTSTART;TZID=America/New_York:20231207T180000
DTEND;TZID=America/New_York:20231207T190000
DTSTAMP:20260419T151938
CREATED:20231115T193925Z
LAST-MODIFIED:20231115T193925Z
UID:10002356-1701972000-1701975600@downtownchagrinfalls.com
SUMMARY:Snowpal Movie Night- All Ages with Caregiver
DESCRIPTION:Watch the classic movie Frosty the Snowman\, drink hot chocolate\, make a snowman craft\, and meet a special snowpal!
URL:https://downtownchagrinfalls.com/event/snowpal-movie-night-all-ages-with-caregiver/
LOCATION:Chagrin Falls Public Library\, 100 East Orange Street\, Chagrin Falls\, OH\, 44022\, United States
CATEGORIES:Children,Crafts,Film,Holiday
ATTACH;FMTTYPE=image/jpeg:https://downtownchagrinfalls.com/wp-content/uploads/2023/11/qtq80-hZdsUp.jpeg
END:VEVENT
END:VCALENDAR