BEGIN:VCALENDAR
VERSION:2.0
PRODID:-//Downtown Chagrin Falls - ECPv6.15.13.1//NONSGML v1.0//EN
CALSCALE:GREGORIAN
METHOD:PUBLISH
X-WR-CALNAME:Downtown Chagrin Falls
X-ORIGINAL-URL:https://downtownchagrinfalls.com
X-WR-CALDESC:Events for Downtown Chagrin Falls
REFRESH-INTERVAL;VALUE=DURATION:PT1H
X-Robots-Tag:noindex
X-PUBLISHED-TTL:PT1H
BEGIN:VTIMEZONE
TZID:America/New_York
BEGIN:DAYLIGHT
TZOFFSETFROM:-0500
TZOFFSETTO:-0400
TZNAME:EDT
DTSTART:20220313T070000
END:DAYLIGHT
BEGIN:STANDARD
TZOFFSETFROM:-0400
TZOFFSETTO:-0500
TZNAME:EST
DTSTART:20221106T060000
END:STANDARD
BEGIN:DAYLIGHT
TZOFFSETFROM:-0500
TZOFFSETTO:-0400
TZNAME:EDT
DTSTART:20230312T070000
END:DAYLIGHT
BEGIN:STANDARD
TZOFFSETFROM:-0400
TZOFFSETTO:-0500
TZNAME:EST
DTSTART:20231105T060000
END:STANDARD
BEGIN:DAYLIGHT
TZOFFSETFROM:-0500
TZOFFSETTO:-0400
TZNAME:EDT
DTSTART:20240310T070000
END:DAYLIGHT
BEGIN:STANDARD
TZOFFSETFROM:-0400
TZOFFSETTO:-0500
TZNAME:EST
DTSTART:20241103T060000
END:STANDARD
END:VTIMEZONE
BEGIN:VEVENT
DTSTART;TZID=America/New_York:20231103T100000
DTEND;TZID=America/New_York:20231215T170000
DTSTAMP:20260419T151945
CREATED:20231102T135617Z
LAST-MODIFIED:20231102T140452Z
UID:10001901-1699005600-1702659600@downtownchagrinfalls.com
SUMMARY:52nd Annual Juried Art Exhibition
DESCRIPTION:Jurors:\nMcKenzie Beynon\, Founder & Co-Owner\, Kink Contemporary\nAnastasia Pantsios\, Photographer & Editor\, CoolCleveland.com\nGina Washington\, Art Instructor & Co-Founder\, The Visit Arts Collective\n\n\nFeaturing a diverse array of 58 remarkable pieces\, this year’s exhibition offers a vibrant spectrum of artistic expression. From classical tastes encompassing oil paintings and landscapes to avant-garde sculptures pushing the boundaries of creativity\, there is something to captivate every art enthusiast. The 52nd Annual Juried Art Exhibition at Valley Art Center is a celebration of artistic diversity\, a testament to the ever-evolving landscape of contemporary art. We invite all art enthusiasts to explore this fusion of visual and literary artistry. \nReturning this year is the partnership with Heights Arts\, culminating in the Ekphrastacy – Artists Talk + Poets Respond event scheduled for December 1 at 6pm. The current Cleveland Heights Poet Laureate\, Siaara Freeman\, and a cadre of accomplished poets are guiding this creative exchange of visual and spoken word artistry. \nTogether\, they will craft and recite poems directly inspired by the captivating artworks on display at the 52nd Annual Juried Art Exhibition\, weaving a harmonious tapestry of artistic expression. “Ekphrastacy at its core is an interactive art process\,” says Siaara Freeman. “It is a chance for artists to become familiar with one another’s work alongside the opportunity to explore new mediums and methods of creation.” The tradition of the Cleveland Heights Poet Laureate\, conferred by Heights Arts\, continues to thrive as the longest-running poet laureate program in the state. Ekphrastacy – Artists Talk + Poets Respond event\, as well as the Opening Reception\, are free to the public.
URL:https://downtownchagrinfalls.com/event/52nd-annual-juried-art-exhibition-opening-2/
LOCATION:Valley Art Center\, 155 Bell Street\, Chagrin Falls\, OH\, 44022\, United States
CATEGORIES:Art,Ongoing Exhibits
ATTACH;FMTTYPE=image/png:https://downtownchagrinfalls.com/wp-content/uploads/2023/11/Untitled-design-63.png
END:VEVENT
BEGIN:VEVENT
DTSTART;VALUE=DATE:20231202
DTEND;VALUE=DATE:20231204
DTSTAMP:20260419T151945
CREATED:20231004T003133Z
LAST-MODIFIED:20231102T133036Z
UID:10001374-1701482400-1701568799@downtownchagrinfalls.com
SUMMARY:Steelhead 201s at CRO
DESCRIPTION:November 4th • November 18th • December 2nd \nJoin your CRO guides for an informative and fun filled day on the water. Limited to 6 anglers\, this day will focus on making you a more well rounded Steelhead angler. Improve your casting\, learn to fish more effectively\, learn how to properly hook and land a Steelhead\, and more. Includes 5 hours on the water and lunch afterwards with a questions and answer session. Please call shop or stop in to register. \nCOST: $200 – Payment due at time of registration please.
URL:https://downtownchagrinfalls.com/event/steelhead-201s-at-cro/2023-12-02/
LOCATION:Chagrin River Outfitters\, 100 N. Main Street\, Chagrin Falls\, OH\, 44022\, United States
CATEGORIES:Classes,Outdoor,sports
ATTACH;FMTTYPE=image/png:https://downtownchagrinfalls.com/wp-content/uploads/2023/11/Untitled-design-76.png
END:VEVENT
BEGIN:VEVENT
DTSTART;TZID=America/New_York:20231202T100000
DTEND;TZID=America/New_York:20231202T160000
DTSTAMP:20260419T151945
CREATED:20231115T193427Z
LAST-MODIFIED:20231115T193627Z
UID:10002355-1701511200-1701532800@downtownchagrinfalls.com
SUMMARY:Friends Book Sale
DESCRIPTION:The Friends of the Chagrin Falls Branch Library book sale will be November 30-December 2. All the proceeds support the Chagrin Falls Branch Library programs and events.
URL:https://downtownchagrinfalls.com/event/friends-book-sale/2023-12-02/
LOCATION:Chagrin Falls Public Library\, 100 East Orange Street\, Chagrin Falls\, OH\, 44022\, United States
CATEGORIES:Fundraiser,Sale,Shopping
ATTACH;FMTTYPE=image/jpeg:https://downtownchagrinfalls.com/wp-content/uploads/2019/07/books-1179692-1280x960.jpg
END:VEVENT
BEGIN:VEVENT
DTSTART;TZID=America/New_York:20231202T110000
DTEND;TZID=America/New_York:20231202T130000
DTSTAMP:20260419T151945
CREATED:20231102T101012Z
LAST-MODIFIED:20231102T101012Z
UID:10001429-1701514800-1701522000@downtownchagrinfalls.com
SUMMARY:Lowes: Santa's Reindeer
DESCRIPTION:Stop by Saturday\, 12/2 from 11 am – 1 pm and get a photo with Santa’s reindeer (yes\, they’re real) but sorry the red nosed one won’t be joining us as he’s busy at the North Pole.
URL:https://downtownchagrinfalls.com/event/lowes-santas-reindeer/
LOCATION:Lowe’s Greenhouse\, 16540 Chillicothe Road\, Bainbridge\, OH\, 44023\, United States
CATEGORIES:Holiday
ATTACH;FMTTYPE=image/jpeg:https://downtownchagrinfalls.com/wp-content/uploads/2023/11/Reindeer2_2305843009217199038_1200x.jpg
END:VEVENT
BEGIN:VEVENT
DTSTART;TZID=America/New_York:20231202T140000
DTEND;TZID=America/New_York:20231202T160000
DTSTAMP:20260419T151945
CREATED:20231116T001052Z
LAST-MODIFIED:20231116T001517Z
UID:10002373-1701525600-1701532800@downtownchagrinfalls.com
SUMMARY:Chagrin History Center Holiday Open House
DESCRIPTION:Join the Chagrin History Center at our annual Holiday Open House on Saturday\, December 2nd from 2-4pm. \nEnjoy refreshments\, a kids craft\, holiday cheer\, and music! This is a family friendly event. Guests will also be \nable to tour our new exhibit in our rotating gallery is Exploring Early Chagrin: What Was Christmas Like Then? \nwhich is on display through the end of January. We will have demonstrations of early arts and crafts\, such as \nweaving! Guests can make a purchase in the Museum Gift Shop\, all purchases will get 10% off during the party.
URL:https://downtownchagrinfalls.com/event/chagrin-history-center-holiday-open-house/
LOCATION:Chagrin History Center\, 87 E. Washington Street\, Chagrin Falls\, OH\, 44022\, United States
CATEGORIES:Children,Community,Food Drive,Holiday,Open House,Sale,Shopping
ATTACH;FMTTYPE=image/png:https://downtownchagrinfalls.com/wp-content/uploads/2023/11/Untitled-Facebook-Post.png
ORGANIZER;CN="Chagrin Falls Historical Society":MAILTO:info@chagrinhistory.org
END:VEVENT
BEGIN:VEVENT
DTSTART;TZID=America/New_York:20231202T140000
DTEND;TZID=America/New_York:20231202T170000
DTSTAMP:20260419T151945
CREATED:20230927T223037Z
LAST-MODIFIED:20230927T223037Z
UID:10001287-1701525600-1701536400@downtownchagrinfalls.com
SUMMARY:Elf\, The Musical - Encore!
DESCRIPTION:In 2022\, CVLT broke box office records by selling out the entire run of “Elf\, the Musical” before the curtain had risen on opening night! Audiences raved\, but many were disappointed at being unable to get a ticket. This year for Christmas\, we’re giving you a gift: Buddy is back! CVLT presents this encore production with many of the cast returning\, including John Kolar in the title role. \nAdapted from one of the most beloved modern Christmas movies\, “Elf the Musical” transforms the story (originally a vehicle for actor Will Farrell) into a theatrical holiday treat for the whole family. “Elf” features songs by the Tony Award nominated Matthew Sklar and Chad Beguelin (Disney’s Aladdin on Broadway\, The Wedding Singer) and a script by Tony Award winners Thomas Meehan (Annie\, The Producers\, Hairspray) and Bob Martin (The Drowsy Chaperone). The New York Times called it “splashy\, peppy\, sugar-sprinkled holiday entertainment!” and Variety said “ELF is happy enough for families\, savvy enough for city kids and plenty smart for adults!” \nChagrin Valley Little Theatre’s production runs weekends from November 17 through December 17\, with performances on Fridays\, Saturdays and select Sundays. Evening performances begin at 7:30 PM on Fridays Nov. 17 & 24\, Dec. 1\, 8 & 15 as well as Saturdays Nov. 25\, & Dec. 9. Matinees at 2 PM on Saturdays Nov. 18\, Dec. 2 & 16\, and Sundays Nov. 26\, Dec. 3\, 10\, & 17. Tickets are $21 with a $4 discount for students\, seniors\, and military. Advance reservations and early arrival are highly recommended\, as sellouts are anticipated once again! \nNOVEMBER 26 – FRIENDS OF WOMENSAFE SPONSORED PERFORMANCE\nJunction Auto Family is sponsoring the 11/26 performance as a fundraiser for Friends of WomenSafe. Free refreshments and cookies included. This performance’s free concessions provided by WomenSafe.
URL:https://downtownchagrinfalls.com/event/elf-the-musical-encore/2023-12-02/
LOCATION:Chagrin Valley Little Theatre\, 40 River Street\, Chagrin Falls\, OH\, 44022\, United States
CATEGORIES:Theater
ATTACH;FMTTYPE=image/jpeg:https://downtownchagrinfalls.com/wp-content/uploads/2023/09/SQ-Elf-e1692279721122-300x300-1.jpg
ORGANIZER;CN="Chagrin Valley Little Theatre":MAILTO:cvlt@cvlt.org
END:VEVENT
BEGIN:VEVENT
DTSTART;TZID=America/New_York:20231202T190000
DTEND;TZID=America/New_York:20231202T203000
DTSTAMP:20260419T151945
CREATED:20230928T001441Z
LAST-MODIFIED:20230928T001441Z
UID:10001310-1701543600-1701549000@downtownchagrinfalls.com
SUMMARY:CELEBRATING MARCIA SNAVELY: 30 YEARS AT FEDERATED CHURCH
DESCRIPTION:The Federated Church Performing Arts Series invites you to celebrate the incredible career of organist extraordinaire: Marcia Snavely and her 30 years of unmatched service at Federated Church! \nThis festive evening will feature the Chagrin Fall Studio Orchestra under the direction of Steve Eva along with the Federated Choir and other special guests! The program will conclude with the incomparable “Organ Symphony” No.3 by Saint-Saens featuring Marcia Snavely.  Join us for a reception afterwards. \n  \nFor more information contact\, jkonow@fedchurch.org or call 440.247.6490 x 120.
URL:https://downtownchagrinfalls.com/event/celebrating-marcia-snavely-30-years-at-federated-church/
LOCATION:Federated Church\, 76 Bell Street\, Chagrin Falls\, OH\, 44022\, United States
CATEGORIES:Live Music
ATTACH;FMTTYPE=image/png:https://downtownchagrinfalls.com/wp-content/uploads/2023/09/Untitled-design-32.png
END:VEVENT
BEGIN:VEVENT
DTSTART;TZID=America/New_York:20231202T200000
DTEND;TZID=America/New_York:20231202T230000
DTSTAMP:20260419T151945
CREATED:20230927T214233Z
LAST-MODIFIED:20230927T214233Z
UID:10001262-1701547200-1701558000@downtownchagrinfalls.com
SUMMARY:Bainbridge Swing Dance
DESCRIPTION:Hosted by Will Craig \nAttending the Bainbridge Swing Dance is participating in an exhilarating era.  With youthful energy\, spectators\, experienced and non-experienced dancers move their feet to the best live bands in the business.  Bands that specialize in swing dance tempos\, sound\, and style.  It’s really a happening place.  An absolute “must do”. \nThis public\, family-friendly event is open to all ages and skill levels. No partner is required for the lesson or the dance.  The Bainbridge Swing Dance has an exceptionally welcoming atmosphere. Proven in its two decades of dancing with many people attending.  It’s one great time.​ \nSwing dance the night away.  A different live band performs the first Saturday of every month at Family Life Center (16349 Chillicothe Road (Route 306) in Chagrin Falls\, OH 44023). The Swing Dance\, with live band performance\, begins at 9:00 p.m. Preceded by a one hour swing dance lesson at 8:00 p.m. Doors open at 7:30pm. No pre-registration required.  Pay at the door with cash or check. \nAdmission (cash or check only\, no credit cards) \n$10 for child (12 years and under) \n$15 for adults (13 years and over) \n$40 per family (up to 2 parents and minor children in same household) \nAdmission includes the 8:00 p.m. lesson and 9:00 p.m. live band performance and dance. Doors open at 7:30pm. \nDance shoes are encouraged. \n\nOctober 7 Bob Frank and Friends\nNovember 4 Hepcat Revival\nDecember 2 Blues DeVille\nJanuary 6 Rachel & the Beatnik Playboys\nFebruary 3 TBA\nMarch 2 Dr. Zoot\nApril 6 Bob Frank and Friends\n\nWe work together to create a friendly and welcoming community of new and experienced dancers\, showing kindness and consideration.  We help each other feel safe and comfortable.  We respect each others’ personal space and boundaries\, even when it is different from our own.  We believe in mutual communication and consent.  We welcome all who share our commitment to uphold these principles.  We also like feedback and smiles.  Thanks for dancing with us.
URL:https://downtownchagrinfalls.com/event/bainbridge-swing-dance/2023-12-02/
LOCATION:Family Life Center\, 16349 Chillicothe Road (Route 306)\, Chagrin Falls\, OH\, 44023\, United States
CATEGORIES:Dancing,Live Music
ATTACH;FMTTYPE=image/webp:https://downtownchagrinfalls.com/wp-content/uploads/2023/09/SwingWebCalendar_2023_07b.webp
ORGANIZER;CN="Will Craig Productions":MAILTO:info@willcraigproductions.com
END:VEVENT
BEGIN:VEVENT
DTSTART;TZID=America/New_York:20231202T213000
DTEND;TZID=America/New_York:20231202T213000
DTSTAMP:20260419T151945
CREATED:20231115T234121Z
LAST-MODIFIED:20231115T234121Z
UID:10002365-1701552600-1701552600@downtownchagrinfalls.com
SUMMARY:Greenville Inn: Run Avril Run
DESCRIPTION:
URL:https://downtownchagrinfalls.com/event/greenville-inn-run-avril-run-2/
LOCATION:Greenville Inn\, 7125 Pine Street\, Bainbridge\, OH\, 44022\, United States
CATEGORIES:Live Music
ATTACH;FMTTYPE=image/jpeg:https://downtownchagrinfalls.com/wp-content/uploads/2020/01/30571419_10156132397330242_1990880730898899926_n.jpg
END:VEVENT
END:VCALENDAR