BEGIN:VCALENDAR
VERSION:2.0
PRODID:-//Downtown Chagrin Falls - ECPv6.15.13.1//NONSGML v1.0//EN
CALSCALE:GREGORIAN
METHOD:PUBLISH
X-ORIGINAL-URL:https://downtownchagrinfalls.com
X-WR-CALDESC:Events for Downtown Chagrin Falls
REFRESH-INTERVAL;VALUE=DURATION:PT1H
X-Robots-Tag:noindex
X-PUBLISHED-TTL:PT1H
BEGIN:VTIMEZONE
TZID:America/New_York
BEGIN:DAYLIGHT
TZOFFSETFROM:-0500
TZOFFSETTO:-0400
TZNAME:EDT
DTSTART:20220313T070000
END:DAYLIGHT
BEGIN:STANDARD
TZOFFSETFROM:-0400
TZOFFSETTO:-0500
TZNAME:EST
DTSTART:20221106T060000
END:STANDARD
BEGIN:DAYLIGHT
TZOFFSETFROM:-0500
TZOFFSETTO:-0400
TZNAME:EDT
DTSTART:20230312T070000
END:DAYLIGHT
BEGIN:STANDARD
TZOFFSETFROM:-0400
TZOFFSETTO:-0500
TZNAME:EST
DTSTART:20231105T060000
END:STANDARD
BEGIN:DAYLIGHT
TZOFFSETFROM:-0500
TZOFFSETTO:-0400
TZNAME:EDT
DTSTART:20240310T070000
END:DAYLIGHT
BEGIN:STANDARD
TZOFFSETFROM:-0400
TZOFFSETTO:-0500
TZNAME:EST
DTSTART:20241103T060000
END:STANDARD
END:VTIMEZONE
BEGIN:VEVENT
DTSTART;TZID=America/New_York:20231103T100000
DTEND;TZID=America/New_York:20231215T170000
DTSTAMP:20260419T204559
CREATED:20231102T135617Z
LAST-MODIFIED:20231102T140452Z
UID:10001901-1699005600-1702659600@downtownchagrinfalls.com
SUMMARY:52nd Annual Juried Art Exhibition
DESCRIPTION:Jurors:\nMcKenzie Beynon\, Founder & Co-Owner\, Kink Contemporary\nAnastasia Pantsios\, Photographer & Editor\, CoolCleveland.com\nGina Washington\, Art Instructor & Co-Founder\, The Visit Arts Collective\n\n\nFeaturing a diverse array of 58 remarkable pieces\, this year’s exhibition offers a vibrant spectrum of artistic expression. From classical tastes encompassing oil paintings and landscapes to avant-garde sculptures pushing the boundaries of creativity\, there is something to captivate every art enthusiast. The 52nd Annual Juried Art Exhibition at Valley Art Center is a celebration of artistic diversity\, a testament to the ever-evolving landscape of contemporary art. We invite all art enthusiasts to explore this fusion of visual and literary artistry. \nReturning this year is the partnership with Heights Arts\, culminating in the Ekphrastacy – Artists Talk + Poets Respond event scheduled for December 1 at 6pm. The current Cleveland Heights Poet Laureate\, Siaara Freeman\, and a cadre of accomplished poets are guiding this creative exchange of visual and spoken word artistry. \nTogether\, they will craft and recite poems directly inspired by the captivating artworks on display at the 52nd Annual Juried Art Exhibition\, weaving a harmonious tapestry of artistic expression. “Ekphrastacy at its core is an interactive art process\,” says Siaara Freeman. “It is a chance for artists to become familiar with one another’s work alongside the opportunity to explore new mediums and methods of creation.” The tradition of the Cleveland Heights Poet Laureate\, conferred by Heights Arts\, continues to thrive as the longest-running poet laureate program in the state. Ekphrastacy – Artists Talk + Poets Respond event\, as well as the Opening Reception\, are free to the public.
URL:https://downtownchagrinfalls.com/event/52nd-annual-juried-art-exhibition-opening-2/
LOCATION:Valley Art Center\, 155 Bell Street\, Chagrin Falls\, OH\, 44022\, United States
CATEGORIES:Art,Ongoing Exhibits
ATTACH;FMTTYPE=image/png:https://downtownchagrinfalls.com/wp-content/uploads/2023/11/Untitled-design-63.png
END:VEVENT
BEGIN:VEVENT
DTSTART;TZID=America/New_York:20231128T140000
DTEND;TZID=America/New_York:20231128T150000
DTSTAMP:20260419T204559
CREATED:20230928T022707Z
LAST-MODIFIED:20230928T022707Z
UID:10001335-1701180000-1701183600@downtownchagrinfalls.com
SUMMARY:Tuesday Afternoon Book Discussion Group
DESCRIPTION:9/26 River of the Gods;\n10/24 Hello Beautiful;\n11/28 Remarkably Bright Creatures\n\n\n\n\n\n\n\nSeptember 26th: River of the Gods: genius\, courage and betrayal in the search for the source of the Nile\, by Candice Millard \n-Tells the dramatic story of two 19th-century British explorers who spent years trekking through East Africa\, enduring injury and illness in a search for the source of the Nile. \nOctober 24th:  Hello Beautiful\, by Ann Napolitano \n-An exquisite homage to Louisa May Alcott’s timeless classic\, Little Women\, Hello Beautiful is a profoundly moving portrait of what is possible when we choose to love someone not in spite of who they are\, but because of it. \nNovember 28th:  Remarkably Bright Creatures\, by Shelby Van Pelt \nFor fans of A Man Called Ove\, a luminous debut novel about a widow’s unlikely friendship with a giant Pacific octopus reluctantly residing at the local aquarium-and the truths she finally uncovers about her son’s disappearance 30 years ago. \nIf you have any questions\, please call the Chagrin Falls Branch at (440)247-3556. \n\n\n\n\n\n\nTAGS: | Book Discussion |
URL:https://downtownchagrinfalls.com/event/tuesday-afternoon-book-discussion-group/2023-11-28/
LOCATION:Chagrin Falls Public Library\, 100 East Orange Street\, Chagrin Falls\, OH\, 44022\, United States
CATEGORIES:Book Club
ATTACH;FMTTYPE=image/png:https://downtownchagrinfalls.com/wp-content/uploads/2022/09/Branch_Chagrin_Falls1.png
END:VEVENT
BEGIN:VEVENT
DTSTART;TZID=America/New_York:20231128T180000
DTEND;TZID=America/New_York:20231128T190000
DTSTAMP:20260419T204559
CREATED:20231115T232815Z
LAST-MODIFIED:20231116T001238Z
UID:10002357-1701194400-1701198000@downtownchagrinfalls.com
SUMMARY:Fireside Book Club
DESCRIPTION:Join us on November 28th to discuss the book Small Things Like These by Claire Keegan. We will have festive snacks\, refreshments\, and great conversation! \nFireside Book Club takes place at 6 pm in Fireside’s back room (near the bestsellers) on the last Tuesday of every month. If you are interested in being added to the email list\, please email vjsfbs1@gmail.com
URL:https://downtownchagrinfalls.com/event/fireside-book-club-2/
LOCATION:Fireside Books\, 29 North Franklin Street\, Chagrin Falls\, OH\, 44022\, United States
CATEGORIES:Book Club
ATTACH;FMTTYPE=image/png:https://downtownchagrinfalls.com/wp-content/uploads/2023/11/Untitled-design-85.png
END:VEVENT
BEGIN:VEVENT
DTSTART;TZID=America/New_York:20231128T190000
DTEND;TZID=America/New_York:20231128T190000
DTSTAMP:20260419T204559
CREATED:20231012T004021Z
LAST-MODIFIED:20231115T235934Z
UID:10001392-1701198000-1701198000@downtownchagrinfalls.com
SUMMARY:Hamlet Winter Concert Series: Hillcrest Concert Band
DESCRIPTION:
URL:https://downtownchagrinfalls.com/event/hamlet-winter-concert-series-hillcrest-concert-band/
LOCATION:Hamlet Atrium\, 200 Hamlet Hills Drive\, Chagrin Falls\, OH\, 44022\, United States
CATEGORIES:Live Music
ATTACH;FMTTYPE=image/png:https://downtownchagrinfalls.com/wp-content/uploads/2023/10/New-Hamlet-Sale-3.png
END:VEVENT
END:VCALENDAR