BEGIN:VCALENDAR
VERSION:2.0
PRODID:-//Downtown Chagrin Falls - ECPv6.15.13.1//NONSGML v1.0//EN
CALSCALE:GREGORIAN
METHOD:PUBLISH
X-ORIGINAL-URL:https://downtownchagrinfalls.com
X-WR-CALDESC:Events for Downtown Chagrin Falls
REFRESH-INTERVAL;VALUE=DURATION:PT1H
X-Robots-Tag:noindex
X-PUBLISHED-TTL:PT1H
BEGIN:VTIMEZONE
TZID:America/New_York
BEGIN:DAYLIGHT
TZOFFSETFROM:-0500
TZOFFSETTO:-0400
TZNAME:EDT
DTSTART:20220313T070000
END:DAYLIGHT
BEGIN:STANDARD
TZOFFSETFROM:-0400
TZOFFSETTO:-0500
TZNAME:EST
DTSTART:20221106T060000
END:STANDARD
BEGIN:DAYLIGHT
TZOFFSETFROM:-0500
TZOFFSETTO:-0400
TZNAME:EDT
DTSTART:20230312T070000
END:DAYLIGHT
BEGIN:STANDARD
TZOFFSETFROM:-0400
TZOFFSETTO:-0500
TZNAME:EST
DTSTART:20231105T060000
END:STANDARD
BEGIN:DAYLIGHT
TZOFFSETFROM:-0500
TZOFFSETTO:-0400
TZNAME:EDT
DTSTART:20240310T070000
END:DAYLIGHT
BEGIN:STANDARD
TZOFFSETFROM:-0400
TZOFFSETTO:-0500
TZNAME:EST
DTSTART:20241103T060000
END:STANDARD
END:VTIMEZONE
BEGIN:VEVENT
DTSTART;TZID=America/New_York:20231103T100000
DTEND;TZID=America/New_York:20231215T170000
DTSTAMP:20260419T190213
CREATED:20231102T135617Z
LAST-MODIFIED:20231102T140452Z
UID:10001901-1699005600-1702659600@downtownchagrinfalls.com
SUMMARY:52nd Annual Juried Art Exhibition
DESCRIPTION:Jurors:\nMcKenzie Beynon\, Founder & Co-Owner\, Kink Contemporary\nAnastasia Pantsios\, Photographer & Editor\, CoolCleveland.com\nGina Washington\, Art Instructor & Co-Founder\, The Visit Arts Collective\n\n\nFeaturing a diverse array of 58 remarkable pieces\, this year’s exhibition offers a vibrant spectrum of artistic expression. From classical tastes encompassing oil paintings and landscapes to avant-garde sculptures pushing the boundaries of creativity\, there is something to captivate every art enthusiast. The 52nd Annual Juried Art Exhibition at Valley Art Center is a celebration of artistic diversity\, a testament to the ever-evolving landscape of contemporary art. We invite all art enthusiasts to explore this fusion of visual and literary artistry. \nReturning this year is the partnership with Heights Arts\, culminating in the Ekphrastacy – Artists Talk + Poets Respond event scheduled for December 1 at 6pm. The current Cleveland Heights Poet Laureate\, Siaara Freeman\, and a cadre of accomplished poets are guiding this creative exchange of visual and spoken word artistry. \nTogether\, they will craft and recite poems directly inspired by the captivating artworks on display at the 52nd Annual Juried Art Exhibition\, weaving a harmonious tapestry of artistic expression. “Ekphrastacy at its core is an interactive art process\,” says Siaara Freeman. “It is a chance for artists to become familiar with one another’s work alongside the opportunity to explore new mediums and methods of creation.” The tradition of the Cleveland Heights Poet Laureate\, conferred by Heights Arts\, continues to thrive as the longest-running poet laureate program in the state. Ekphrastacy – Artists Talk + Poets Respond event\, as well as the Opening Reception\, are free to the public.
URL:https://downtownchagrinfalls.com/event/52nd-annual-juried-art-exhibition-opening-2/
LOCATION:Valley Art Center\, 155 Bell Street\, Chagrin Falls\, OH\, 44022\, United States
CATEGORIES:Art,Ongoing Exhibits
ATTACH;FMTTYPE=image/png:https://downtownchagrinfalls.com/wp-content/uploads/2023/11/Untitled-design-63.png
END:VEVENT
BEGIN:VEVENT
DTSTART;TZID=America/New_York:20231112T080000
DTEND;TZID=America/New_York:20231112T170000
DTSTAMP:20260419T190213
CREATED:20230927T221524Z
LAST-MODIFIED:20230927T221524Z
UID:10001277-1699776000-1699808400@downtownchagrinfalls.com
SUMMARY:Wine Tasting: Our Fabulous Holiday Show
DESCRIPTION:No better way to kick off the fall season than with wine tastings at Chucks!!\n\n\nAs always space is limited\, call us to reserve your spots! (440)247-7534\n\n\nCheers!!
URL:https://downtownchagrinfalls.com/event/wine-tasting-our-fabulous-holiday-show/
LOCATION:Chuck’s Fine Wines\, 23 Bell Street\, Chagrin Falls\, OH\, 44022\, United States
CATEGORIES:Wine Tasting
ATTACH;FMTTYPE=image/jpeg:https://downtownchagrinfalls.com/wp-content/uploads/2020/01/82462695_10163218652875508_6320324068629282816_o-scaled.jpg
END:VEVENT
BEGIN:VEVENT
DTSTART;TZID=America/New_York:20231112T130000
DTEND;TZID=America/New_York:20231112T150000
DTSTAMP:20260419T190213
CREATED:20231102T185435Z
LAST-MODIFIED:20231102T185435Z
UID:10002321-1699794000-1699801200@downtownchagrinfalls.com
SUMMARY:Author Signing: Jennifer Boresz Engelking
DESCRIPTION:Jennifer Boresz\, author of Lost Lake Erie\, will sign books on November 12th from 1-3 pm. \nABOUT THE BOOK: As the site of Cleveland’s Great Lakes Exposition\, the lake offered visitors a respite from the Great Depression\, and Hotel Victory\, once considered the world’s largest summer resort\, drew thousands to Put-In-Bay. Daring postal workers dangerously crossed the ice-covered surface on hybrid “boats” and by foot. Canal Street\, at the Buffalo Wharf\, was once called “the Wickedest Street in America.” The  Erie is one of thousands of ships that lie in a solemn graveyard below the surface. And rum runners turned the lake into a watery highway for illegal booze during Prohibition. \nAuthor Jennifer Boresz Engelking reveals entertaining\, heartbreaking\, and nostalgic stories of the lost sites\, businesses and industries of Lake Erie. \nABOUT THE AUTHOR: Jennifer Boresz Engelking is the author of Lost Lake County\, Ohio and Hidden History of Lake County\, Ohio . She is a Cleveland State University graduate and award-winning and regional Emmy-nominated writer who has been published in Echoes Magazine\, the News-Herald and Lake Erie Living\, among others. She was a reporter at CBS stations\, in Toledo\, Ohio\, and Erie\, Pennsylvania\, and has written and coproduced historical documentaries aired on PBS. Jennifer was born\, raised and still resides in Lake County\, near the shores of Lake Erie. Her website is www.jenniferboresz.com.
URL:https://downtownchagrinfalls.com/event/author-signing-jennifer-boresz-engelking/
LOCATION:Fireside Books\, 29 North Franklin Street\, Chagrin Falls\, OH\, 44022\, United States
CATEGORIES:Book signing
ATTACH;FMTTYPE=image/jpeg:https://downtownchagrinfalls.com/wp-content/uploads/2023/11/Fireside-author-4.jpg
END:VEVENT
BEGIN:VEVENT
DTSTART;TZID=America/New_York:20231112T130000
DTEND;TZID=America/New_York:20231112T160000
DTSTAMP:20260419T190213
CREATED:20231102T104849Z
LAST-MODIFIED:20231102T105000Z
UID:10001491-1699794000-1699804800@downtownchagrinfalls.com
SUMMARY:Trees of Ohio
DESCRIPTION:Join Naturalist Dan Jenkins in beautiful South Chagrin Reservation for a day all about trees! Enjoy the ambiance of the historic Look About Lodge as we learn how to identify the trees that make up our local forests. Registration includes snacks\, beverages\, and a tree field guide! Email northchagrinnc@clevelandmetroparks.com with questions. \n\nTerrain: natural surface\, hilly\, roots\, up to 2.5 miles\nAdults\nLook About Lodge\nSouth Chagrin Reservation\nDriving Directions\n440-473-3370\nSend Email\n$23.00
URL:https://downtownchagrinfalls.com/event/trees-of-ohio/
LOCATION:Look About Lodge\, 37374 Miles Road\, Bentleyville\, OH\, 44022\, United States
CATEGORIES:Nature,Outdoor
ATTACH;FMTTYPE=image/jpeg:https://downtownchagrinfalls.com/wp-content/uploads/2023/11/396722906_636202128682575_8629457564174584424_n.jpg
END:VEVENT
END:VCALENDAR