BEGIN:VCALENDAR
VERSION:2.0
PRODID:-//Downtown Chagrin Falls - ECPv6.15.13.1//NONSGML v1.0//EN
CALSCALE:GREGORIAN
METHOD:PUBLISH
X-ORIGINAL-URL:https://downtownchagrinfalls.com
X-WR-CALDESC:Events for Downtown Chagrin Falls
REFRESH-INTERVAL;VALUE=DURATION:PT1H
X-Robots-Tag:noindex
X-PUBLISHED-TTL:PT1H
BEGIN:VTIMEZONE
TZID:America/New_York
BEGIN:DAYLIGHT
TZOFFSETFROM:-0500
TZOFFSETTO:-0400
TZNAME:EDT
DTSTART:20220313T070000
END:DAYLIGHT
BEGIN:STANDARD
TZOFFSETFROM:-0400
TZOFFSETTO:-0500
TZNAME:EST
DTSTART:20221106T060000
END:STANDARD
BEGIN:DAYLIGHT
TZOFFSETFROM:-0500
TZOFFSETTO:-0400
TZNAME:EDT
DTSTART:20230312T070000
END:DAYLIGHT
BEGIN:STANDARD
TZOFFSETFROM:-0400
TZOFFSETTO:-0500
TZNAME:EST
DTSTART:20231105T060000
END:STANDARD
BEGIN:DAYLIGHT
TZOFFSETFROM:-0500
TZOFFSETTO:-0400
TZNAME:EDT
DTSTART:20240310T070000
END:DAYLIGHT
BEGIN:STANDARD
TZOFFSETFROM:-0400
TZOFFSETTO:-0500
TZNAME:EST
DTSTART:20241103T060000
END:STANDARD
END:VTIMEZONE
BEGIN:VEVENT
DTSTART;TZID=America/New_York:20231103T100000
DTEND;TZID=America/New_York:20231215T170000
DTSTAMP:20260419T152218
CREATED:20231102T135617Z
LAST-MODIFIED:20231102T140452Z
UID:10001901-1699005600-1702659600@downtownchagrinfalls.com
SUMMARY:52nd Annual Juried Art Exhibition
DESCRIPTION:Jurors:\nMcKenzie Beynon\, Founder & Co-Owner\, Kink Contemporary\nAnastasia Pantsios\, Photographer & Editor\, CoolCleveland.com\nGina Washington\, Art Instructor & Co-Founder\, The Visit Arts Collective\n\n\nFeaturing a diverse array of 58 remarkable pieces\, this year’s exhibition offers a vibrant spectrum of artistic expression. From classical tastes encompassing oil paintings and landscapes to avant-garde sculptures pushing the boundaries of creativity\, there is something to captivate every art enthusiast. The 52nd Annual Juried Art Exhibition at Valley Art Center is a celebration of artistic diversity\, a testament to the ever-evolving landscape of contemporary art. We invite all art enthusiasts to explore this fusion of visual and literary artistry. \nReturning this year is the partnership with Heights Arts\, culminating in the Ekphrastacy – Artists Talk + Poets Respond event scheduled for December 1 at 6pm. The current Cleveland Heights Poet Laureate\, Siaara Freeman\, and a cadre of accomplished poets are guiding this creative exchange of visual and spoken word artistry. \nTogether\, they will craft and recite poems directly inspired by the captivating artworks on display at the 52nd Annual Juried Art Exhibition\, weaving a harmonious tapestry of artistic expression. “Ekphrastacy at its core is an interactive art process\,” says Siaara Freeman. “It is a chance for artists to become familiar with one another’s work alongside the opportunity to explore new mediums and methods of creation.” The tradition of the Cleveland Heights Poet Laureate\, conferred by Heights Arts\, continues to thrive as the longest-running poet laureate program in the state. Ekphrastacy – Artists Talk + Poets Respond event\, as well as the Opening Reception\, are free to the public.
URL:https://downtownchagrinfalls.com/event/52nd-annual-juried-art-exhibition-opening-2/
LOCATION:Valley Art Center\, 155 Bell Street\, Chagrin Falls\, OH\, 44022\, United States
CATEGORIES:Art,Ongoing Exhibits
ATTACH;FMTTYPE=image/png:https://downtownchagrinfalls.com/wp-content/uploads/2023/11/Untitled-design-63.png
END:VEVENT
BEGIN:VEVENT
DTSTART;TZID=America/New_York:20231103T173000
DTEND;TZID=America/New_York:20231103T200000
DTSTAMP:20260419T152218
CREATED:20231102T183229Z
LAST-MODIFIED:20231102T183229Z
UID:10002309-1699032600-1699041600@downtownchagrinfalls.com
SUMMARY:Live Music with David Sterner
DESCRIPTION:Celebrate the weekend with an evening full of live music\, food and drink! \nJoin us in the tasting room at Heinen’s Chagrin Falls and enjoy the relaxing sounds of jazz performed live by local saxophonist\, David Sterner. \nWhile you listen\, treat yourself to gourmet bites from our restaurant-style kitchen and sip on our selection of wine and beer on tap! \nNo entrance fee required. Food and beverage may be purchased separately.
URL:https://downtownchagrinfalls.com/event/live-music-with-david-sterner-2/
LOCATION:Heinen’s\, 20 Shopping Plaza\, Chagrin Falls\, OH\, 44022\, United States
CATEGORIES:Live Music
ATTACH;FMTTYPE=image/jpeg:https://downtownchagrinfalls.com/wp-content/uploads/2023/11/qtq80-2gkogJ.jpeg
END:VEVENT
BEGIN:VEVENT
DTSTART;TZID=America/New_York:20231103T180000
DTEND;TZID=America/New_York:20231103T200000
DTSTAMP:20260419T152218
CREATED:20231018T215650Z
LAST-MODIFIED:20231102T132950Z
UID:10001413-1699034400-1699041600@downtownchagrinfalls.com
SUMMARY:52nd Annual Juried Art Exhibition Opening
DESCRIPTION:Join us for an unforgettable evening as we celebrate the opening of Valley Art Center’s 52nd Annual Juried Art Exhibition! This prestigious event showcases the diverse talents of 58 local and regional artists within a 250-mile radius of Chagrin Falls. \n\n\n\nCome and be part of this celebration\, an evening of artistic exploration\, and an opportunity to connect with the local art community. Don’t miss out on this memorable event that promises to inspire and delight! FREE & OPEN TO ALL!\n\n\nRSVP today at https://fb.me/e/1jAXgXUKI! If you have any questions\, please feel free to contact us at gallery@valleyartcenter.org or call (440) 247-7507.\n\n\nJoin us in celebrating the vibrant world of art and creativity at Valley Art Center’s 52nd Annual Juried Art Exhibition Opening! We look forward to seeing you there!
URL:https://downtownchagrinfalls.com/event/52nd-annual-juried-art-exhibition-opening/
LOCATION:Valley Art Center\, 155 Bell Street\, Chagrin Falls\, OH\, 44022\, United States
CATEGORIES:Art,Art Exhibit Opening,Food & Drink
ATTACH;FMTTYPE=image/png:https://downtownchagrinfalls.com/wp-content/uploads/2023/11/Untitled-design-63.png
END:VEVENT
BEGIN:VEVENT
DTSTART;TZID=America/New_York:20231103T190000
DTEND;TZID=America/New_York:20231103T210000
DTSTAMP:20260419T152218
CREATED:20230927T221347Z
LAST-MODIFIED:20230927T221403Z
UID:10001276-1699038000-1699045200@downtownchagrinfalls.com
SUMMARY:Wine Tasting: A Night With Mike Turner from Wine Trends
DESCRIPTION:No better way to kick off the fall season than with wine tastings at Chucks!!\n\n\nAs always space is limited\, call us to reserve your spots! (440)247-7534\n\n\nCheers!!
URL:https://downtownchagrinfalls.com/event/wine-tasting-a-night-with-mike-turner-from-wine-trends/
LOCATION:Chuck’s Fine Wines\, 23 Bell Street\, Chagrin Falls\, OH\, 44022\, United States
ATTACH;FMTTYPE=image/jpeg:https://downtownchagrinfalls.com/wp-content/uploads/2020/01/82462695_10163218652875508_6320324068629282816_o-scaled.jpg
END:VEVENT
BEGIN:VEVENT
DTSTART;TZID=America/New_York:20231103T213000
DTEND;TZID=America/New_York:20231103T213000
DTSTAMP:20260419T152218
CREATED:20231102T183654Z
LAST-MODIFIED:20231102T183654Z
UID:10002311-1699047000-1699047000@downtownchagrinfalls.com
SUMMARY:Greenville Inn: Dreadlock Dave & Friends
DESCRIPTION:
URL:https://downtownchagrinfalls.com/event/greenville-inn-dreadlock-dave-friends/
LOCATION:Greenville Inn\, 7125 Pine Street\, Bainbridge\, OH\, 44022\, United States
CATEGORIES:Live Music
ATTACH;FMTTYPE=image/jpeg:https://downtownchagrinfalls.com/wp-content/uploads/2022/09/dreadlock.jpeg
END:VEVENT
END:VCALENDAR