BEGIN:VCALENDAR
VERSION:2.0
PRODID:-//Downtown Chagrin Falls - ECPv6.15.13.1//NONSGML v1.0//EN
CALSCALE:GREGORIAN
METHOD:PUBLISH
X-WR-CALNAME:Downtown Chagrin Falls
X-ORIGINAL-URL:https://downtownchagrinfalls.com
X-WR-CALDESC:Events for Downtown Chagrin Falls
REFRESH-INTERVAL;VALUE=DURATION:PT1H
X-Robots-Tag:noindex
X-PUBLISHED-TTL:PT1H
BEGIN:VTIMEZONE
TZID:America/New_York
BEGIN:DAYLIGHT
TZOFFSETFROM:-0500
TZOFFSETTO:-0400
TZNAME:EDT
DTSTART:20220313T070000
END:DAYLIGHT
BEGIN:STANDARD
TZOFFSETFROM:-0400
TZOFFSETTO:-0500
TZNAME:EST
DTSTART:20221106T060000
END:STANDARD
BEGIN:DAYLIGHT
TZOFFSETFROM:-0500
TZOFFSETTO:-0400
TZNAME:EDT
DTSTART:20230312T070000
END:DAYLIGHT
BEGIN:STANDARD
TZOFFSETFROM:-0400
TZOFFSETTO:-0500
TZNAME:EST
DTSTART:20231105T060000
END:STANDARD
BEGIN:DAYLIGHT
TZOFFSETFROM:-0500
TZOFFSETTO:-0400
TZNAME:EDT
DTSTART:20240310T070000
END:DAYLIGHT
BEGIN:STANDARD
TZOFFSETFROM:-0400
TZOFFSETTO:-0500
TZNAME:EST
DTSTART:20241103T060000
END:STANDARD
END:VTIMEZONE
BEGIN:VEVENT
DTSTART;TZID=America/New_York:20231031T170000
DTEND;TZID=America/New_York:20231031T203000
DTSTAMP:20260419T115051
CREATED:20231018T201647Z
LAST-MODIFIED:20231018T201647Z
UID:10001406-1698771600-1698784200@downtownchagrinfalls.com
SUMMARY:BHHS Halloween Open House
DESCRIPTION:Join your favorite real estate agents for a night filled with trick-or-treating\, cider\, bourbon\, music\, and snacks. It’s going to be a horrifically good time…
URL:https://downtownchagrinfalls.com/event/bhhs-halloween-open-house/
LOCATION:Berkshire Hathaway Home Services\, 25 S. Franklin Street\, Chagrin Falls\, OH\, 44022\, United States
CATEGORIES:Food & Drink,Open House
ATTACH;FMTTYPE=image/png:https://downtownchagrinfalls.com/wp-content/uploads/2023/10/Untitled-design-58.png
END:VEVENT
BEGIN:VEVENT
DTSTART;TZID=America/New_York:20231031T180000
DTEND;TZID=America/New_York:20231031T200000
DTSTAMP:20260419T115051
CREATED:20230927T200928Z
LAST-MODIFIED:20231018T202250Z
UID:10001244-1698775200-1698782400@downtownchagrinfalls.com
SUMMARY:Chagrin Falls Trick or Treat and Haunted Firehouse
DESCRIPTION:Halloween in celebrated in Chagrin Falls from 6 to 8 pm: \n\nTrick-or-Treating\nHaunted Firehouse\n** Free for all who are brave enough to enter!\n** Located at 21 W Washington Street (entrance off Walnut Street)
URL:https://downtownchagrinfalls.com/event/chagrin-falls-trick-or-treat-and-haunted-firehouse/
LOCATION:Chagrin Falls Fire Station\, 21 W\,. Washington Street\, Chagrin Falls\, OH\, 44022\, United States
CATEGORIES:Holiday,Just Fun
ATTACH;FMTTYPE=image/png:https://downtownchagrinfalls.com/wp-content/uploads/2023/09/Untitled-design-61.png
ORGANIZER;CN="Village of Chagrin Falls":MAILTO:debbie@chagrin-falls.org
END:VEVENT
END:VCALENDAR