BEGIN:VCALENDAR
VERSION:2.0
PRODID:-//Downtown Chagrin Falls - ECPv6.15.13.1//NONSGML v1.0//EN
CALSCALE:GREGORIAN
METHOD:PUBLISH
X-ORIGINAL-URL:https://downtownchagrinfalls.com
X-WR-CALDESC:Events for Downtown Chagrin Falls
REFRESH-INTERVAL;VALUE=DURATION:PT1H
X-Robots-Tag:noindex
X-PUBLISHED-TTL:PT1H
BEGIN:VTIMEZONE
TZID:America/New_York
BEGIN:DAYLIGHT
TZOFFSETFROM:-0500
TZOFFSETTO:-0400
TZNAME:EDT
DTSTART:20220313T070000
END:DAYLIGHT
BEGIN:STANDARD
TZOFFSETFROM:-0400
TZOFFSETTO:-0500
TZNAME:EST
DTSTART:20221106T060000
END:STANDARD
BEGIN:DAYLIGHT
TZOFFSETFROM:-0500
TZOFFSETTO:-0400
TZNAME:EDT
DTSTART:20230312T070000
END:DAYLIGHT
BEGIN:STANDARD
TZOFFSETFROM:-0400
TZOFFSETTO:-0500
TZNAME:EST
DTSTART:20231105T060000
END:STANDARD
BEGIN:DAYLIGHT
TZOFFSETFROM:-0500
TZOFFSETTO:-0400
TZNAME:EDT
DTSTART:20240310T070000
END:DAYLIGHT
BEGIN:STANDARD
TZOFFSETFROM:-0400
TZOFFSETTO:-0500
TZNAME:EST
DTSTART:20241103T060000
END:STANDARD
END:VTIMEZONE
BEGIN:VEVENT
DTSTART;TZID=America/New_York:20231030T183000
DTEND;TZID=America/New_York:20231030T203000
DTSTAMP:20260419T115223
CREATED:20231026T193603Z
LAST-MODIFIED:20231026T193603Z
UID:10001418-1698690600-1698697800@downtownchagrinfalls.com
SUMMARY:Jazz Mondays : Eddie Majeski Duo
DESCRIPTION:Your Hosts: Laurel Cline\, \nLenny Benitez\, Alice Wilson \nBest cocktails in town.Hors d’oeuvres and Dessert Menu Only.No reservations\, just pop in! \nDoor opens at 6 pm \nPLEASE NOTE NEW START TIME \nFOR JAZZLive Jazz  6:30ish-8:30 pm \n​
URL:https://downtownchagrinfalls.com/event/jazz-mondays-eddie-majeski-duo/
LOCATION:Paris Room\, 7 N. Franklin Street (entrance around back)\, Chagrin Falls\, OH\, 44022\, United States
CATEGORIES:Live Music
ATTACH;FMTTYPE=image/webp:https://downtownchagrinfalls.com/wp-content/uploads/2022/11/Jazz-Monday.webp
END:VEVENT
END:VCALENDAR