BEGIN:VCALENDAR
VERSION:2.0
PRODID:-//Downtown Chagrin Falls - ECPv6.15.13.1//NONSGML v1.0//EN
CALSCALE:GREGORIAN
METHOD:PUBLISH
X-ORIGINAL-URL:https://downtownchagrinfalls.com
X-WR-CALDESC:Events for Downtown Chagrin Falls
REFRESH-INTERVAL;VALUE=DURATION:PT1H
X-Robots-Tag:noindex
X-PUBLISHED-TTL:PT1H
BEGIN:VTIMEZONE
TZID:America/New_York
BEGIN:DAYLIGHT
TZOFFSETFROM:-0500
TZOFFSETTO:-0400
TZNAME:EDT
DTSTART:20220313T070000
END:DAYLIGHT
BEGIN:STANDARD
TZOFFSETFROM:-0400
TZOFFSETTO:-0500
TZNAME:EST
DTSTART:20221106T060000
END:STANDARD
BEGIN:DAYLIGHT
TZOFFSETFROM:-0500
TZOFFSETTO:-0400
TZNAME:EDT
DTSTART:20230312T070000
END:DAYLIGHT
BEGIN:STANDARD
TZOFFSETFROM:-0400
TZOFFSETTO:-0500
TZNAME:EST
DTSTART:20231105T060000
END:STANDARD
BEGIN:DAYLIGHT
TZOFFSETFROM:-0500
TZOFFSETTO:-0400
TZNAME:EDT
DTSTART:20240310T070000
END:DAYLIGHT
BEGIN:STANDARD
TZOFFSETFROM:-0400
TZOFFSETTO:-0500
TZNAME:EST
DTSTART:20241103T060000
END:STANDARD
END:VTIMEZONE
BEGIN:VEVENT
DTSTART;TZID=America/New_York:20231022T090000
DTEND;TZID=America/New_York:20231022T120000
DTSTAMP:20260419T115357
CREATED:20230928T233525Z
LAST-MODIFIED:20230928T234251Z
UID:10001365-1697965200-1697976000@downtownchagrinfalls.com
SUMMARY:North Union Farmers Market at Chagrin Falls
DESCRIPTION:North Union Farmers Market is a 501(c)(3) nonprofit organization that operates certified\, producer-only farmers markets. We run several farmers market each week during the height of Ohio’s season. Since opening in 1995\, North Union has offered Clevelanders and Northeast Ohioans something to which they previously did not have access – healthy\, fresh\, local produce sold directly by farmers.\n\nNorth Union runs certified producers-only markets. What does that mean?\nEach vendor undergoes an onsite farm inspection. Each farm submits a crop list and site plan in the application process after their farm certification. Certification requires lease or ownership records\, seed receipts\, number of acres under production\, site location\, and approximate harvest. Everything is confirmed by our trained staff.
URL:https://downtownchagrinfalls.com/event/north-union-farmers-market-at-chagrin-falls/2023-10-22/
LOCATION:Triangle Park\, Chagrin Falls\, OH\, 44022\, United States
CATEGORIES:Farmers Market
ATTACH;FMTTYPE=image/jpeg:https://downtownchagrinfalls.com/wp-content/uploads/2019/06/FarmersMarket2.jpg
END:VEVENT
BEGIN:VEVENT
DTSTART;TZID=America/New_York:20231022T121500
DTEND;TZID=America/New_York:20231022T133000
DTSTAMP:20260419T115357
CREATED:20231005T004819Z
LAST-MODIFIED:20231005T004819Z
UID:10001381-1697976900-1697981400@downtownchagrinfalls.com
SUMMARY:Yoga for Healing with Megan Davis
DESCRIPTION:Sunday\, October 22 2023 12:15-1:30p\n\nTrauma informed yoga is a systematic framework of care that intersects modern science\, traditional eastern yogic philosophy\, social change\, and mental wellness in an effort to mitigate the impact of trauma and support healing and resilience. It is a lens through which to honor the full complexity and nuance of the human experience. Students are encouraged to engage with curiosity vs. judgment\, and to make choices around what feels useful for them moment to moment\, throughout the class. We emphasize agency\, autonomy\, consent\, choice and transparency to support post traumatic growth and reduce harm.This 60 minute offering includes: \n\nyoga based movement/ asana\nbreathing/ pranayama\nsomatic exercises to support nervous system regulation\nself devotion meditation\n\nAccessible to all levels\, no yoga experience needed- all are welcome. \nWorkshop Cost: $30
URL:https://downtownchagrinfalls.com/event/yoga-for-healing-with-megan-davis/
LOCATION:Chagrin Yoga\, 524 E Washington Street\, Chagrin Falls\, OH\, 44022\, United States
CATEGORIES:Fitness,Workshop
ATTACH;FMTTYPE=image/jpeg:https://downtownchagrinfalls.com/wp-content/uploads/2023/10/Yoga-for-healing-workshop-Chagrin-Yoga.jpeg
END:VEVENT
BEGIN:VEVENT
DTSTART;TZID=America/New_York:20231022T130000
DTEND;TZID=America/New_York:20231022T160000
DTSTAMP:20260419T115357
CREATED:20231019T004616Z
LAST-MODIFIED:20231019T004616Z
UID:10001415-1697979600-1697990400@downtownchagrinfalls.com
SUMMARY:Halloween Costume Skate
DESCRIPTION:Are you ready for one of the oldest annual Halloween events in town!? We have been celebrating Halloween with a costume skate for longer than we can remember! So we want to see everyone dressed up – kids\, adults\, teens – don’t be shy\, the party is always more fun with everyone in costume just make sure you can skate in it!
URL:https://downtownchagrinfalls.com/event/halloween-costume-skate/
LOCATION:Chagrin Valley Roller Rink\, 7151 South Main Street\, Chagrin Falls\, OH\, 44022\, United States
CATEGORIES:Children,Community,Just Fun
ATTACH;FMTTYPE=image/jpeg:https://downtownchagrinfalls.com/wp-content/uploads/2023/10/FB_IMG_1697423698040.jpg
END:VEVENT
BEGIN:VEVENT
DTSTART;TZID=America/New_York:20231022T153000
DTEND;TZID=America/New_York:20231022T170000
DTSTAMP:20260419T115357
CREATED:20230927T234830Z
LAST-MODIFIED:20230927T234830Z
UID:10001306-1697988600-1697994000@downtownchagrinfalls.com
SUMMARY:Spirits Alive! A Guided Tour of Evergreen Hill Cemetery
DESCRIPTION:Join us for our sixth annual Spirits Alive! Evergreen Hill Cemetery tour. You will be guided to seven graves and meet with spirits in the cemetery who will tell you their story. While this is an annual event\, the spirits who come out to talk to you are different each year. This year you will hear stories from well-known Chagrin residents: Henry Church Jr.\, Jane Church\, a supporter and opponent of the Temperance Movement\, and more!\nTour times are at 3:30\, 4:00\, and 4:30. RSVP required. Tickets are $20 for non-members\, $15 for members. Purchase online at www.chagrinhistory.org or call 440.247.4692
URL:https://downtownchagrinfalls.com/event/spirits-alive-a-guided-tour-of-evergreen-hill-cemetery/2023-10-22/
LOCATION:Evergreen Cemetery
CATEGORIES:History,Tour
ATTACH;FMTTYPE=image/jpeg:https://downtownchagrinfalls.com/wp-content/uploads/2023/09/Spirits-alive-2023.jpeg
ORGANIZER;CN="Chagrin Falls Historical Society":MAILTO:info@chagrinhistory.org
END:VEVENT
END:VCALENDAR