BEGIN:VCALENDAR
VERSION:2.0
PRODID:-//Downtown Chagrin Falls - ECPv6.15.13.1//NONSGML v1.0//EN
CALSCALE:GREGORIAN
METHOD:PUBLISH
X-WR-CALNAME:Downtown Chagrin Falls
X-ORIGINAL-URL:https://downtownchagrinfalls.com
X-WR-CALDESC:Events for Downtown Chagrin Falls
REFRESH-INTERVAL;VALUE=DURATION:PT1H
X-Robots-Tag:noindex
X-PUBLISHED-TTL:PT1H
BEGIN:VTIMEZONE
TZID:America/New_York
BEGIN:DAYLIGHT
TZOFFSETFROM:-0500
TZOFFSETTO:-0400
TZNAME:EDT
DTSTART:20220313T070000
END:DAYLIGHT
BEGIN:STANDARD
TZOFFSETFROM:-0400
TZOFFSETTO:-0500
TZNAME:EST
DTSTART:20221106T060000
END:STANDARD
BEGIN:DAYLIGHT
TZOFFSETFROM:-0500
TZOFFSETTO:-0400
TZNAME:EDT
DTSTART:20230312T070000
END:DAYLIGHT
BEGIN:STANDARD
TZOFFSETFROM:-0400
TZOFFSETTO:-0500
TZNAME:EST
DTSTART:20231105T060000
END:STANDARD
BEGIN:DAYLIGHT
TZOFFSETFROM:-0500
TZOFFSETTO:-0400
TZNAME:EDT
DTSTART:20240310T070000
END:DAYLIGHT
BEGIN:STANDARD
TZOFFSETFROM:-0400
TZOFFSETTO:-0500
TZNAME:EST
DTSTART:20241103T060000
END:STANDARD
END:VTIMEZONE
BEGIN:VEVENT
DTSTART;VALUE=DATE:20230908
DTEND;VALUE=DATE:20231019
DTSTAMP:20260419T115058
CREATED:20230928T130356Z
LAST-MODIFIED:20231018T220243Z
UID:10001344-1694138400-1697594399@downtownchagrinfalls.com
SUMMARY:VAC: Contemporary Debris
DESCRIPTION:Valley Art Center is thrilled to announce its upcoming exhibition\, Contemporary Debris. This invitational group show will present a remarkable assortment of artwork created with recycled materials\, co-curated by Valley Art Center Assistant Director & Gallery Manager Julie Polsinelli and The Gallery at Lakeland Community College Gallery Coordinator/Exhibition Curator/Installation Designer Mary Urbas. The exhibition will showcase the extraordinary talent of Northeast Ohio artists who embody the spirit of creativity\, resourcefulness\, and environmental consciousness. \nFrom September 8 to October 18\, visitors will be immersed in an assortment of artwork crafted exclusively from recycled materials\, proving that beauty can be found in even the most unexpected places.\nArtists from all corners of the creative world have embraced the challenge of transforming discarded objects into astonishing works of art. Marvel at sculptures meticulously fashioned from scrap metal\, witness intricate collages brought to life from found objects\, and explore the many possibilities of repurposed materials that push the boundaries of artistic expression. \nAs a part of Contemporary Debris\, Valley Art Center’s façade will be adorned with a stunning recycled wall sculpture from Ron Shelton\, which will have a second life following its creation in Riverside Park in April. Ron Shelton\, a Cleveland-based artist known for his remarkable sculptures made from recycled materials\, brings his talent and passion for environmental sustainability to this project. For the full list of artists and more information on this exhibition\, please visit valleyartcenter.org.\n​ \n\nAs an additional highlight of the exhibition\, an Art Talk and Reception titled “The Readymade in Modern and Contemporary Art” will be held on Friday\, October 6 at 6pm in The Bowen Gallery at Valley Art Center. Speaker Sydney Slacas\, J.D. M.A.\, will explore the fascinating concept of found and repurposed objects and their significance in modern and contemporary art\, while surrounded by the art in the gallery space.
URL:https://downtownchagrinfalls.com/event/vac-contemporary-debris/
LOCATION:Valley Art Center\, 155 Bell Street\, Chagrin Falls\, OH\, 44022\, United States
CATEGORIES:Ongoing Exhibits
ATTACH;FMTTYPE=image/png:https://downtownchagrinfalls.com/wp-content/uploads/2023/09/Untitled-design-60.png
END:VEVENT
BEGIN:VEVENT
DTSTART;TZID=America/New_York:20231008T090000
DTEND;TZID=America/New_York:20231008T120000
DTSTAMP:20260419T115058
CREATED:20230928T233525Z
LAST-MODIFIED:20230928T234251Z
UID:10001363-1696755600-1696766400@downtownchagrinfalls.com
SUMMARY:North Union Farmers Market at Chagrin Falls
DESCRIPTION:North Union Farmers Market is a 501(c)(3) nonprofit organization that operates certified\, producer-only farmers markets. We run several farmers market each week during the height of Ohio’s season. Since opening in 1995\, North Union has offered Clevelanders and Northeast Ohioans something to which they previously did not have access – healthy\, fresh\, local produce sold directly by farmers.\n\nNorth Union runs certified producers-only markets. What does that mean?\nEach vendor undergoes an onsite farm inspection. Each farm submits a crop list and site plan in the application process after their farm certification. Certification requires lease or ownership records\, seed receipts\, number of acres under production\, site location\, and approximate harvest. Everything is confirmed by our trained staff.
URL:https://downtownchagrinfalls.com/event/north-union-farmers-market-at-chagrin-falls/2023-10-08/
LOCATION:Triangle Park\, Chagrin Falls\, OH\, 44022\, United States
CATEGORIES:Farmers Market
ATTACH;FMTTYPE=image/jpeg:https://downtownchagrinfalls.com/wp-content/uploads/2019/06/FarmersMarket2.jpg
END:VEVENT
BEGIN:VEVENT
DTSTART;TZID=America/New_York:20231008T130000
DTEND;TZID=America/New_York:20231008T150000
DTSTAMP:20260419T115058
CREATED:20230928T004339Z
LAST-MODIFIED:20230928T004339Z
UID:10001316-1696770000-1696777200@downtownchagrinfalls.com
SUMMARY:Author Signing: Josh Womack
DESCRIPTION:Josh Womack\, author of You are not that funny\, will sign books on October 8th from 1-3 pm. \nABOUT THE BOOK: Josh Womack had a short run in stand-up comedy\, but along the way he met some interesting people who left a profound impact on him. In his second book\, Josh talks about falling in and out of love with comedy. You’ll recognize some of the names\, but you’ll also hear the backstories of why certain venues hold a special place in the hearts of former and current Cleveland comedians. If you’re a fan of stand-up and the stories behind the stage\, You are not that funny is worth the two-drink minimum. \nABOUT THE AUTHOR: Josh Womack lives in Cleveland and currently works as a copywriter.
URL:https://downtownchagrinfalls.com/event/author-signing-josh-womack/
LOCATION:Fireside Books\, 29 North Franklin Street\, Chagrin Falls\, OH\, 44022\, United States
ATTACH;FMTTYPE=image/png:https://downtownchagrinfalls.com/wp-content/uploads/2023/09/Untitled-design-40.png
END:VEVENT
BEGIN:VEVENT
DTSTART;TZID=America/New_York:20231008T173000
DTEND;TZID=America/New_York:20231008T193000
DTSTAMP:20260419T115058
CREATED:20230927T211343Z
LAST-MODIFIED:20230927T223213Z
UID:10001259-1696786200-1696793400@downtownchagrinfalls.com
SUMMARY:CDFF - The Orchestra Chuck Built - Festival Closing
DESCRIPTION:Sponsored by South Franklin Circle\nCelebrate with CDFF as the in-person festival draws to a close and we get ready to enjoy CDFF on Demand. Performance by the Ohio Youth Orchestra.\nIndividual ticket: $15 included in membership Family Explorer and above.\nFilm: The Orchestra Chuck Built\nWhen Chuck Dickerson learned that only 1.8% of the professional orchestra workforce in the US is Black\, he set out to make a change
URL:https://downtownchagrinfalls.com/event/the-orchestra-chuck-built-festival-closing/
LOCATION:Chagrin Falls Intermediate School\, 77 E. Washington Street\, Chagrin Falls\, OH\, 44022\, United States
CATEGORIES:Festival,Film
ATTACH;FMTTYPE=image/jpeg:https://downtownchagrinfalls.com/wp-content/uploads/2023/09/Orchestra-Chuck-Built.jpeg
ORGANIZER;CN="Chagrin Documentary Film Festival":MAILTO:info@chagrinfilmfest.org
END:VEVENT
END:VCALENDAR