BEGIN:VCALENDAR
VERSION:2.0
PRODID:-//Downtown Chagrin Falls - ECPv6.15.13.1//NONSGML v1.0//EN
CALSCALE:GREGORIAN
METHOD:PUBLISH
X-ORIGINAL-URL:https://downtownchagrinfalls.com
X-WR-CALDESC:Events for Downtown Chagrin Falls
REFRESH-INTERVAL;VALUE=DURATION:PT1H
X-Robots-Tag:noindex
X-PUBLISHED-TTL:PT1H
BEGIN:VTIMEZONE
TZID:America/New_York
BEGIN:DAYLIGHT
TZOFFSETFROM:-0500
TZOFFSETTO:-0400
TZNAME:EDT
DTSTART:20220313T070000
END:DAYLIGHT
BEGIN:STANDARD
TZOFFSETFROM:-0400
TZOFFSETTO:-0500
TZNAME:EST
DTSTART:20221106T060000
END:STANDARD
BEGIN:DAYLIGHT
TZOFFSETFROM:-0500
TZOFFSETTO:-0400
TZNAME:EDT
DTSTART:20230312T070000
END:DAYLIGHT
BEGIN:STANDARD
TZOFFSETFROM:-0400
TZOFFSETTO:-0500
TZNAME:EST
DTSTART:20231105T060000
END:STANDARD
BEGIN:DAYLIGHT
TZOFFSETFROM:-0500
TZOFFSETTO:-0400
TZNAME:EDT
DTSTART:20240310T070000
END:DAYLIGHT
BEGIN:STANDARD
TZOFFSETFROM:-0400
TZOFFSETTO:-0500
TZNAME:EST
DTSTART:20241103T060000
END:STANDARD
END:VTIMEZONE
BEGIN:VEVENT
DTSTART;VALUE=DATE:20230908
DTEND;VALUE=DATE:20231019
DTSTAMP:20260419T115252
CREATED:20230928T130356Z
LAST-MODIFIED:20231018T220243Z
UID:10001344-1694138400-1697594399@downtownchagrinfalls.com
SUMMARY:VAC: Contemporary Debris
DESCRIPTION:Valley Art Center is thrilled to announce its upcoming exhibition\, Contemporary Debris. This invitational group show will present a remarkable assortment of artwork created with recycled materials\, co-curated by Valley Art Center Assistant Director & Gallery Manager Julie Polsinelli and The Gallery at Lakeland Community College Gallery Coordinator/Exhibition Curator/Installation Designer Mary Urbas. The exhibition will showcase the extraordinary talent of Northeast Ohio artists who embody the spirit of creativity\, resourcefulness\, and environmental consciousness. \nFrom September 8 to October 18\, visitors will be immersed in an assortment of artwork crafted exclusively from recycled materials\, proving that beauty can be found in even the most unexpected places.\nArtists from all corners of the creative world have embraced the challenge of transforming discarded objects into astonishing works of art. Marvel at sculptures meticulously fashioned from scrap metal\, witness intricate collages brought to life from found objects\, and explore the many possibilities of repurposed materials that push the boundaries of artistic expression. \nAs a part of Contemporary Debris\, Valley Art Center’s façade will be adorned with a stunning recycled wall sculpture from Ron Shelton\, which will have a second life following its creation in Riverside Park in April. Ron Shelton\, a Cleveland-based artist known for his remarkable sculptures made from recycled materials\, brings his talent and passion for environmental sustainability to this project. For the full list of artists and more information on this exhibition\, please visit valleyartcenter.org.\n​ \n\nAs an additional highlight of the exhibition\, an Art Talk and Reception titled “The Readymade in Modern and Contemporary Art” will be held on Friday\, October 6 at 6pm in The Bowen Gallery at Valley Art Center. Speaker Sydney Slacas\, J.D. M.A.\, will explore the fascinating concept of found and repurposed objects and their significance in modern and contemporary art\, while surrounded by the art in the gallery space.
URL:https://downtownchagrinfalls.com/event/vac-contemporary-debris/
LOCATION:Valley Art Center\, 155 Bell Street\, Chagrin Falls\, OH\, 44022\, United States
CATEGORIES:Ongoing Exhibits
ATTACH;FMTTYPE=image/png:https://downtownchagrinfalls.com/wp-content/uploads/2023/09/Untitled-design-60.png
END:VEVENT
BEGIN:VEVENT
DTSTART;TZID=America/New_York:20231007T080000
DTEND;TZID=America/New_York:20231007T100000
DTSTAMP:20260419T115252
CREATED:20230928T010538Z
LAST-MODIFIED:20230928T010538Z
UID:10001320-1696665600-1696672800@downtownchagrinfalls.com
SUMMARY:Head for the Hills 5 K and Hike
DESCRIPTION:On Saturday\, October 7th\, join us in the heart of the Chagrin River Valley for Head For The Hills! 2023. \nRegistration fees and all donations benefit the non-profit Moreland Hills Parks Commission.  This annual event provides the Parks Commission with its primary source of funds.  The Parks Commission’s mission is to support preservation\, improvements\, and enjoyment of our local parks for all.  Moreland Hills is home to many of the area’s most prized and pristine green spaces.  These include the beautiful 142-acre Forest Ridge Preserve and the Lang Pavilion (where this event will take place)\, sections of Cleveland Metroparks South Chagrin Reservation\, U.S. President James A. Garfield’s cabin and birth site\, and more. \nWe are proud of our scenic and competitive 5K through the valley\, now part of the Hermes Road Race Series.  But you don’t have to be a runner to enjoy this event!  Experience the trails of Forest Ridge Preserve on our family-friendly hike — take your time to enjoy these beautiful woodlands on a route that will be fun and interesting for kids of all ages! \nAll registrants for the 5K and the hike receive a special “Head For The Hills! 2023” commemorative shirt and chances for other great giveaways. For everyone\, there will be free kids activities and crafts\, a silent auction where you can bid on some fantastic gifts and experiences\, and more. \nEnjoy great breakfast items and coffee from Blaze N’ Good Food (available for purchase starting 8AM). \nTake advantage of stretching and massage services from Equestrian Health (from 8:30AM). \nCome experience the beauty of the Chagrin River valley while supporting a great local cause at Head For The Hills 2023!
URL:https://downtownchagrinfalls.com/event/head-for-the-hills-5-k-and-hike/
LOCATION:Lang Pavilion\, 3800 Chagrin River Road\, Moreland Hills\, OH\, 44022\, United States
CATEGORIES:Children,Community,Fitness
ATTACH;FMTTYPE=image/jpeg:https://downtownchagrinfalls.com/wp-content/uploads/2023/09/raceBanner-5RqGrTtS-bGZk_P.jpg
END:VEVENT
BEGIN:VEVENT
DTSTART;TZID=America/New_York:20231007T080000
DTEND;TZID=America/New_York:20231007T140000
DTSTAMP:20260419T115252
CREATED:20231004T002525Z
LAST-MODIFIED:20231004T002525Z
UID:10001369-1696665600-1696687200@downtownchagrinfalls.com
SUMMARY:Swung Fly Day w/ Jeff Liskay and CRO Guides/Staff
DESCRIPTION:Dialing in your swung fly game for Fall. 100 plus years of Steelheading know how comes together to help you swing up more fish this Fall. \n\n8am – Breakdown of the best setups for swinging flies on Great Lakes tributaries\n9:45am – Go to flies\, fly lines\, and sink tip selection\n11:30am – Plan of Attack for fishing day\n1:00pm – Two handed casting demos\nNew Fall swinging Flies\nNew Fall Gear\nNew Scott Swing Rod Demos\nShop Sale & Cookout
URL:https://downtownchagrinfalls.com/event/swung-fly-day-w-jeff-liskay-and-cro-guides-staff/
LOCATION:Chagrin River Outfitters\, 100 N. Main Street\, Chagrin Falls\, OH\, 44022\, United States
CATEGORIES:Outdoor,sports
ATTACH;FMTTYPE=image/jpeg:https://downtownchagrinfalls.com/wp-content/uploads/2023/10/Swung-Fly-day.jpg
END:VEVENT
BEGIN:VEVENT
DTSTART;TZID=America/New_York:20231007T100000
DTEND;TZID=America/New_York:20231007T110000
DTSTAMP:20260419T115252
CREATED:20230928T022233Z
LAST-MODIFIED:20230928T022233Z
UID:10001332-1696672800-1696676400@downtownchagrinfalls.com
SUMMARY:Kindergarten Countdown: Art of Celebration
DESCRIPTION:Join us as we help your child build kindergarten readiness skills in a program aligned to Ohio’s Early Childhood Standards. This session\, we will focus on the Art of Celebration.
URL:https://downtownchagrinfalls.com/event/kindergarten-countdown-art-of-celebration/
LOCATION:Chagrin Falls Public Library\, 100 East Orange Street\, Chagrin Falls\, OH\, 44022\, United States
CATEGORIES:Children
ATTACH;FMTTYPE=image/png:https://downtownchagrinfalls.com/wp-content/uploads/2022/09/Branch_Chagrin_Falls1.png
END:VEVENT
BEGIN:VEVENT
DTSTART;TZID=America/New_York:20231007T103000
DTEND;TZID=America/New_York:20231007T233000
DTSTAMP:20260419T115252
CREATED:20230927T211059Z
LAST-MODIFIED:20230927T211059Z
UID:10001258-1696674600-1696721400@downtownchagrinfalls.com
SUMMARY:CDFF - Festival Awards Ceremony
DESCRIPTION:Sponsored by Carnegie Investment Counsel \nEnjoy a light breakfast\, sponsored by NEO Counseling\, LLC\, with filmmakers and film lovers prior to the 14th annual awards ceremony. \nMeet with filmmakers and film enthusiasts at the 2023 Festival Awards. $10\,000 in prize money will be presented to winners. \nCelebrity Hosts: Loree Vick and Rick Jackson  \nFree and open to the public
URL:https://downtownchagrinfalls.com/event/cdff-festival-awards-ceremony/
LOCATION:Chagrin Valley Little Theatre\, 40 River Street\, Chagrin Falls\, OH\, 44022\, United States
CATEGORIES:Community,Festival
ATTACH;FMTTYPE=image/jpeg:https://downtownchagrinfalls.com/wp-content/uploads/2023/09/Festival-Awards-2023.jpeg
ORGANIZER;CN="Chagrin Documentary Film Festival":MAILTO:info@chagrinfilmfest.org
END:VEVENT
BEGIN:VEVENT
DTSTART;TZID=America/New_York:20231007T120000
DTEND;TZID=America/New_York:20231007T180000
DTSTAMP:20260419T115252
CREATED:20230928T233041Z
LAST-MODIFIED:20230928T233041Z
UID:10001347-1696680000-1696701600@downtownchagrinfalls.com
SUMMARY:Lowe's Greenhouse: Shop Local Happy Hour
DESCRIPTION:MUMS the word: we are celebrating LOCAL on Saturday\, October 7 with a Sip and Shop featuring beer tastings from Crooked Pecker Brewing Company! Supporting local\, shopping small\, and enjoying good brews… Is there a better way to enjoy a NE Ohio Saturday afternoon? \nSales announced soon! \n 
URL:https://downtownchagrinfalls.com/event/lowes-greenhouse-shop-local-happy-hour/
LOCATION:Lowe’s Greenhouse\, 16540 Chillicothe Road\, Bainbridge\, OH\, 44023\, United States
CATEGORIES:Happy Hour,Shopping
ATTACH;FMTTYPE=image/png:https://downtownchagrinfalls.com/wp-content/uploads/2023/09/sip-and-shop-Lowes.png
END:VEVENT
BEGIN:VEVENT
DTSTART;TZID=America/New_York:20231007T140000
DTEND;TZID=America/New_York:20231007T150000
DTSTAMP:20260419T115252
CREATED:20230928T023251Z
LAST-MODIFIED:20230928T023251Z
UID:10001338-1696687200-1696690800@downtownchagrinfalls.com
SUMMARY:LatinX Horror and Fantasy Title Talk
DESCRIPTION:Explore the world of LatinX Horror and Fantasy and find new titles to add to your TBR list.
URL:https://downtownchagrinfalls.com/event/latinx-horror-and-fantasy-title-talk/
LOCATION:Chagrin Falls Public Library\, 100 East Orange Street\, Chagrin Falls\, OH\, 44022\, United States
CATEGORIES:Speaker
ATTACH;FMTTYPE=image/png:https://downtownchagrinfalls.com/wp-content/uploads/2022/09/Branch_Chagrin_Falls1.png
END:VEVENT
BEGIN:VEVENT
DTSTART;TZID=America/New_York:20231007T200000
DTEND;TZID=America/New_York:20231007T230000
DTSTAMP:20260419T115252
CREATED:20230927T214233Z
LAST-MODIFIED:20230927T214233Z
UID:10001260-1696708800-1696719600@downtownchagrinfalls.com
SUMMARY:Bainbridge Swing Dance
DESCRIPTION:Hosted by Will Craig \nAttending the Bainbridge Swing Dance is participating in an exhilarating era.  With youthful energy\, spectators\, experienced and non-experienced dancers move their feet to the best live bands in the business.  Bands that specialize in swing dance tempos\, sound\, and style.  It’s really a happening place.  An absolute “must do”. \nThis public\, family-friendly event is open to all ages and skill levels. No partner is required for the lesson or the dance.  The Bainbridge Swing Dance has an exceptionally welcoming atmosphere. Proven in its two decades of dancing with many people attending.  It’s one great time.​ \nSwing dance the night away.  A different live band performs the first Saturday of every month at Family Life Center (16349 Chillicothe Road (Route 306) in Chagrin Falls\, OH 44023). The Swing Dance\, with live band performance\, begins at 9:00 p.m. Preceded by a one hour swing dance lesson at 8:00 p.m. Doors open at 7:30pm. No pre-registration required.  Pay at the door with cash or check. \nAdmission (cash or check only\, no credit cards) \n$10 for child (12 years and under) \n$15 for adults (13 years and over) \n$40 per family (up to 2 parents and minor children in same household) \nAdmission includes the 8:00 p.m. lesson and 9:00 p.m. live band performance and dance. Doors open at 7:30pm. \nDance shoes are encouraged. \n\nOctober 7 Bob Frank and Friends\nNovember 4 Hepcat Revival\nDecember 2 Blues DeVille\nJanuary 6 Rachel & the Beatnik Playboys\nFebruary 3 TBA\nMarch 2 Dr. Zoot\nApril 6 Bob Frank and Friends\n\nWe work together to create a friendly and welcoming community of new and experienced dancers\, showing kindness and consideration.  We help each other feel safe and comfortable.  We respect each others’ personal space and boundaries\, even when it is different from our own.  We believe in mutual communication and consent.  We welcome all who share our commitment to uphold these principles.  We also like feedback and smiles.  Thanks for dancing with us.
URL:https://downtownchagrinfalls.com/event/bainbridge-swing-dance/2023-10-07/
LOCATION:Family Life Center\, 16349 Chillicothe Road (Route 306)\, Chagrin Falls\, OH\, 44023\, United States
CATEGORIES:Dancing,Live Music
ATTACH;FMTTYPE=image/webp:https://downtownchagrinfalls.com/wp-content/uploads/2023/09/SwingWebCalendar_2023_07b.webp
ORGANIZER;CN="Will Craig Productions":MAILTO:info@willcraigproductions.com
END:VEVENT
BEGIN:VEVENT
DTSTART;TZID=America/New_York:20231007T213000
DTEND;TZID=America/New_York:20231008T000000
DTSTAMP:20260419T115252
CREATED:20230928T003053Z
LAST-MODIFIED:20230928T020827Z
UID:10001325-1696714200-1696723200@downtownchagrinfalls.com
SUMMARY:Greenville Inn: Monica Robins and the Whisky Kings
DESCRIPTION:
URL:https://downtownchagrinfalls.com/event/greenville-inn-monica-robins-and-the-whisky-kings/
LOCATION:Greenville Inn\, 7125 Pine Street\, Bainbridge\, OH\, 44022\, United States
CATEGORIES:Live Music
ATTACH;FMTTYPE=image/png:https://downtownchagrinfalls.com/wp-content/uploads/2019/08/Monica.png
END:VEVENT
END:VCALENDAR