BEGIN:VCALENDAR
VERSION:2.0
PRODID:-//Downtown Chagrin Falls - ECPv6.15.13.1//NONSGML v1.0//EN
CALSCALE:GREGORIAN
METHOD:PUBLISH
X-ORIGINAL-URL:https://downtownchagrinfalls.com
X-WR-CALDESC:Events for Downtown Chagrin Falls
REFRESH-INTERVAL;VALUE=DURATION:PT1H
X-Robots-Tag:noindex
X-PUBLISHED-TTL:PT1H
BEGIN:VTIMEZONE
TZID:America/New_York
BEGIN:DAYLIGHT
TZOFFSETFROM:-0500
TZOFFSETTO:-0400
TZNAME:EDT
DTSTART:20220313T070000
END:DAYLIGHT
BEGIN:STANDARD
TZOFFSETFROM:-0400
TZOFFSETTO:-0500
TZNAME:EST
DTSTART:20221106T060000
END:STANDARD
BEGIN:DAYLIGHT
TZOFFSETFROM:-0500
TZOFFSETTO:-0400
TZNAME:EDT
DTSTART:20230312T070000
END:DAYLIGHT
BEGIN:STANDARD
TZOFFSETFROM:-0400
TZOFFSETTO:-0500
TZNAME:EST
DTSTART:20231105T060000
END:STANDARD
BEGIN:DAYLIGHT
TZOFFSETFROM:-0500
TZOFFSETTO:-0400
TZNAME:EDT
DTSTART:20240310T070000
END:DAYLIGHT
BEGIN:STANDARD
TZOFFSETFROM:-0400
TZOFFSETTO:-0500
TZNAME:EST
DTSTART:20241103T060000
END:STANDARD
END:VTIMEZONE
BEGIN:VEVENT
DTSTART;VALUE=DATE:20230908
DTEND;VALUE=DATE:20231019
DTSTAMP:20260419T115248
CREATED:20230928T130356Z
LAST-MODIFIED:20231018T220243Z
UID:10001344-1694138400-1697594399@downtownchagrinfalls.com
SUMMARY:VAC: Contemporary Debris
DESCRIPTION:Valley Art Center is thrilled to announce its upcoming exhibition\, Contemporary Debris. This invitational group show will present a remarkable assortment of artwork created with recycled materials\, co-curated by Valley Art Center Assistant Director & Gallery Manager Julie Polsinelli and The Gallery at Lakeland Community College Gallery Coordinator/Exhibition Curator/Installation Designer Mary Urbas. The exhibition will showcase the extraordinary talent of Northeast Ohio artists who embody the spirit of creativity\, resourcefulness\, and environmental consciousness. \nFrom September 8 to October 18\, visitors will be immersed in an assortment of artwork crafted exclusively from recycled materials\, proving that beauty can be found in even the most unexpected places.\nArtists from all corners of the creative world have embraced the challenge of transforming discarded objects into astonishing works of art. Marvel at sculptures meticulously fashioned from scrap metal\, witness intricate collages brought to life from found objects\, and explore the many possibilities of repurposed materials that push the boundaries of artistic expression. \nAs a part of Contemporary Debris\, Valley Art Center’s façade will be adorned with a stunning recycled wall sculpture from Ron Shelton\, which will have a second life following its creation in Riverside Park in April. Ron Shelton\, a Cleveland-based artist known for his remarkable sculptures made from recycled materials\, brings his talent and passion for environmental sustainability to this project. For the full list of artists and more information on this exhibition\, please visit valleyartcenter.org.\n​ \n\nAs an additional highlight of the exhibition\, an Art Talk and Reception titled “The Readymade in Modern and Contemporary Art” will be held on Friday\, October 6 at 6pm in The Bowen Gallery at Valley Art Center. Speaker Sydney Slacas\, J.D. M.A.\, will explore the fascinating concept of found and repurposed objects and their significance in modern and contemporary art\, while surrounded by the art in the gallery space.
URL:https://downtownchagrinfalls.com/event/vac-contemporary-debris/
LOCATION:Valley Art Center\, 155 Bell Street\, Chagrin Falls\, OH\, 44022\, United States
CATEGORIES:Ongoing Exhibits
ATTACH;FMTTYPE=image/png:https://downtownchagrinfalls.com/wp-content/uploads/2023/09/Untitled-design-60.png
END:VEVENT
BEGIN:VEVENT
DTSTART;TZID=America/New_York:20231005T090000
DTEND;TZID=America/New_York:20231005T110000
DTSTAMP:20260419T115248
CREATED:20230927T204919Z
LAST-MODIFIED:20230928T234833Z
UID:10001251-1696496400-1696503600@downtownchagrinfalls.com
SUMMARY:CDFF Docs & Donuts - Parents Morning Out
DESCRIPTION:Ditch the drop off blues and join us for donuts\, coffee\, and riveting docs!\n$12 Individual tickets- Included with membership Family Explorer and up.\nFilms: Handwritten\, Healing Paws\, Strong Grandma\, Justice for Batman: The Mark Racop Case\, and Many Hearts – One Community.
URL:https://downtownchagrinfalls.com/event/cdff-docs-donuts-parents-morning-out/
LOCATION:St. Joan of Arc Church
CATEGORIES:Film,Food & Drink
ATTACH;FMTTYPE=image/png:https://downtownchagrinfalls.com/wp-content/uploads/2023/09/Untitled-design-46.png
ORGANIZER;CN="Chagrin Documentary Film Festival":MAILTO:info@chagrinfilmfest.org
END:VEVENT
BEGIN:VEVENT
DTSTART;TZID=America/New_York:20231005T123000
DTEND;TZID=America/New_York:20231005T130000
DTSTAMP:20260419T115248
CREATED:20230927T205249Z
LAST-MODIFIED:20230927T223203Z
UID:10001252-1696509000-1696510800@downtownchagrinfalls.com
SUMMARY:CDFF - A Taste of Local Honey
DESCRIPTION:Special event after the film: The Last Bumblebee. Come and taste all that bees have to offer! Apiarists from all over Northeast Ohio bring their best batches of honey for you to try. Taste what each region has to offer.
URL:https://downtownchagrinfalls.com/event/a-taste-of-local-honey/
LOCATION:Chagrin Valley Little Theatre\, 40 River Street\, Chagrin Falls\, OH\, 44022\, United States
CATEGORIES:Food & Drink
ATTACH;FMTTYPE=image/jpeg:https://downtownchagrinfalls.com/wp-content/uploads/2023/09/A-Taste-of-Local-Honey.jpeg
ORGANIZER;CN="Chagrin Documentary Film Festival":MAILTO:info@chagrinfilmfest.org
END:VEVENT
BEGIN:VEVENT
DTSTART;TZID=America/New_York:20231005T160000
DTEND;TZID=America/New_York:20231005T170000
DTSTAMP:20260419T115248
CREATED:20230927T205639Z
LAST-MODIFIED:20230927T205639Z
UID:10001253-1696521600-1696525200@downtownchagrinfalls.com
SUMMARY:CDFF Mompreneur Podcast
DESCRIPTION:Mompreneur podcaster Megan Moran interviews some of CDFF’s visiting women filmmakers. Free and open to the public.
URL:https://downtownchagrinfalls.com/event/cdff-mompreneur-podcast/
LOCATION:Chagrin Falls Township Hall\, 83 N. Main Street\, Chagrin Falls\, OH\, 44022\, United States
CATEGORIES:Festival,Just Fun,Speaker
ATTACH;FMTTYPE=image/jpeg:https://downtownchagrinfalls.com/wp-content/uploads/2023/09/Mompreneur-podcast.jpeg
ORGANIZER;CN="Chagrin Documentary Film Festival":MAILTO:info@chagrinfilmfest.org
END:VEVENT
BEGIN:VEVENT
DTSTART;TZID=America/New_York:20231005T160000
DTEND;TZID=America/New_York:20231005T190000
DTSTAMP:20260419T115248
CREATED:20230927T205856Z
LAST-MODIFIED:20230927T205856Z
UID:10001254-1696521600-1696532400@downtownchagrinfalls.com
SUMMARY:CDFF Ladies Night
DESCRIPTION:Sponsored by Susan Metallo\, Berkshire Hathaway Home Services\nGather your friends and catch some great documentary films! Make a memorable evening of it at CDFF!\n$30 includes films after 4 pm on 10/5\, a special cocktail and snacks at MBevy at 6:30. Stop by Sanity from 3-6 pm for champagne and discounts.\nReservations required in advance. Included in Igniter and above membership levels.\nSuggested Ladies Night Films: 9to5: The Story of a Movement\, Ohio Stories\, Patrick and the Whale\, or Anna and the Egyptian Doctor.
URL:https://downtownchagrinfalls.com/event/cdff-ladies-night/
LOCATION:Chagrin Falls\, Chagrin Falls\, OH\, 44022\, United States
CATEGORIES:Film,Food & Drink,Shopping
ATTACH;FMTTYPE=image/jpeg:https://downtownchagrinfalls.com/wp-content/uploads/2023/09/CDFF-Ladies-Night.jpeg
ORGANIZER;CN="Chagrin Documentary Film Festival":MAILTO:info@chagrinfilmfest.org
END:VEVENT
BEGIN:VEVENT
DTSTART;TZID=America/New_York:20231005T180000
DTEND;TZID=America/New_York:20231005T193000
DTSTAMP:20260419T115248
CREATED:20231002T222058Z
LAST-MODIFIED:20231002T222315Z
UID:10001368-1696528800-1696534200@downtownchagrinfalls.com
SUMMARY:CDFF: Bourbon Tasting and Film
DESCRIPTION:VIP guests can attend a special bourbon tasting with dinner. Then view “Williams & Mansell: Red 5” at The Chagrin Valley Little Theatre which starts at 7:30PM. Individual tickets $85\, includes tasting\, dinner and film (limited capacity). Special event included in membership for Dreamers.\nCall 440-247-0444 or email SMcSherry99@hotmail.com for reservations.\nParis Room Tent\nTent in front of Paris Room\n7 N Franklin St\, Chagrin Falls\, OH 44022 (Back of Building Lower Level)\nOctober 5\, 2023\, 6:00 – 7:30 PM EDT
URL:https://downtownchagrinfalls.com/event/cdff-bourbon-tasting-and-film/
LOCATION:Paris Room\, 7 N. Franklin Street (entrance around back)\, Chagrin Falls\, OH\, 44022\, United States
CATEGORIES:Festival,Film,Food & Drink
ATTACH;FMTTYPE=image/jpeg:https://downtownchagrinfalls.com/wp-content/uploads/2023/09/Bourbon-tasting.jpeg
ORGANIZER;CN="Chagrin Documentary Film Festival":MAILTO:info@chagrinfilmfest.org
END:VEVENT
BEGIN:VEVENT
DTSTART;TZID=America/New_York:20231005T180000
DTEND;TZID=America/New_York:20231005T193000
DTSTAMP:20260419T115248
CREATED:20231005T220002Z
LAST-MODIFIED:20231002T221847Z
UID:10001256-1696528800-1696534200@downtownchagrinfalls.com
SUMMARY:CDFF - Bourbon Tasting & Film
DESCRIPTION:VIP guests can attend a special bourbon tasting with dinner. Then view “Williams & Mansell: Red 5” at The Chagrin Valley Little Theatre which starts at 7:30PM. Individual tickets $85\, includes tasting\, dinner and film (limited capacity). Special event included in membership for Dreamers.\nCall 440-247-0444 or email SMcSherry99@hotmail.com for reservations.\nParis Room Tent\nTent in front of Paris Room\n7 N Franklin St\, Chagrin Falls\, OH 44022 (Back of Building Lower Level)\nOctober 5\, 2023\, 6:00 – 7:30 PM EDT
URL:https://downtownchagrinfalls.com/event/cdff-bourbon-tasting-film/
LOCATION:Paris Room\, 7 N. Franklin Street (entrance around back)\, Chagrin Falls\, OH\, 44022\, United States
CATEGORIES:Film,Food & Drink
ATTACH;FMTTYPE=image/jpeg:https://downtownchagrinfalls.com/wp-content/uploads/2023/09/Bourbon-tasting.jpeg
ORGANIZER;CN="Chagrin Documentary Film Festival":MAILTO:info@chagrinfilmfest.org
END:VEVENT
BEGIN:VEVENT
DTSTART;TZID=America/New_York:20231005T180000
DTEND;TZID=America/New_York:20231005T210000
DTSTAMP:20260419T115248
CREATED:20230927T210122Z
LAST-MODIFIED:20230927T210122Z
UID:10001255-1696528800-1696539600@downtownchagrinfalls.com
SUMMARY:CDFF - Cars\, Cigars and Craft Beers
DESCRIPTION:In Partnership with the Chagrin Valley Jaycees\nThe trifecta to a perfect evening. Join us as we gather at the patio to the right of The Chagrin Little Theatre before the fun racing film Williams & Mansell: Red 5 for conversations about craft beers\, cars & cigars. Enjoy a light fair of local favorite snacks while sipping on a craft beer from Crooked Pecker. $30 includes beer\, snacks and a great film.\nThen it’s off to Chagrin Valley Little Theatre for the Film: Williams & Mansell: Red 5 (Film only at 7:30 PM) Included in Igniter and up memberships.\nPatio by CVLT\nCorner of West St. & River St.\n79 West Street\, Chagrin Falls\, Oh 44022\nOctober 5\, 2023\, 6:00 – 7:30 PM EDT
URL:https://downtownchagrinfalls.com/event/cdff-cars-cigars-and-craft-beers/
LOCATION:Chagrin Valley Little Theatre\, 40 River Street\, Chagrin Falls\, OH\, 44022\, United States
CATEGORIES:Film,Food & Drink
ATTACH;FMTTYPE=image/jpeg:https://downtownchagrinfalls.com/wp-content/uploads/2023/09/Cars-cigars-and-films.jpeg
ORGANIZER;CN="Chagrin Documentary Film Festival":MAILTO:info@chagrinfilmfest.org
END:VEVENT
END:VCALENDAR