BEGIN:VCALENDAR
VERSION:2.0
PRODID:-//Downtown Chagrin Falls - ECPv6.15.13.1//NONSGML v1.0//EN
CALSCALE:GREGORIAN
METHOD:PUBLISH
X-ORIGINAL-URL:https://downtownchagrinfalls.com
X-WR-CALDESC:Events for Downtown Chagrin Falls
REFRESH-INTERVAL;VALUE=DURATION:PT1H
X-Robots-Tag:noindex
X-PUBLISHED-TTL:PT1H
BEGIN:VTIMEZONE
TZID:America/New_York
BEGIN:DAYLIGHT
TZOFFSETFROM:-0500
TZOFFSETTO:-0400
TZNAME:EDT
DTSTART:20220313T070000
END:DAYLIGHT
BEGIN:STANDARD
TZOFFSETFROM:-0400
TZOFFSETTO:-0500
TZNAME:EST
DTSTART:20221106T060000
END:STANDARD
BEGIN:DAYLIGHT
TZOFFSETFROM:-0500
TZOFFSETTO:-0400
TZNAME:EDT
DTSTART:20230312T070000
END:DAYLIGHT
BEGIN:STANDARD
TZOFFSETFROM:-0400
TZOFFSETTO:-0500
TZNAME:EST
DTSTART:20231105T060000
END:STANDARD
BEGIN:DAYLIGHT
TZOFFSETFROM:-0500
TZOFFSETTO:-0400
TZNAME:EDT
DTSTART:20240310T070000
END:DAYLIGHT
BEGIN:STANDARD
TZOFFSETFROM:-0400
TZOFFSETTO:-0500
TZNAME:EST
DTSTART:20241103T060000
END:STANDARD
END:VTIMEZONE
BEGIN:VEVENT
DTSTART;VALUE=DATE:20230908
DTEND;VALUE=DATE:20231019
DTSTAMP:20260419T115308
CREATED:20230928T130356Z
LAST-MODIFIED:20231018T220243Z
UID:10001344-1694138400-1697594399@downtownchagrinfalls.com
SUMMARY:VAC: Contemporary Debris
DESCRIPTION:Valley Art Center is thrilled to announce its upcoming exhibition\, Contemporary Debris. This invitational group show will present a remarkable assortment of artwork created with recycled materials\, co-curated by Valley Art Center Assistant Director & Gallery Manager Julie Polsinelli and The Gallery at Lakeland Community College Gallery Coordinator/Exhibition Curator/Installation Designer Mary Urbas. The exhibition will showcase the extraordinary talent of Northeast Ohio artists who embody the spirit of creativity\, resourcefulness\, and environmental consciousness. \nFrom September 8 to October 18\, visitors will be immersed in an assortment of artwork crafted exclusively from recycled materials\, proving that beauty can be found in even the most unexpected places.\nArtists from all corners of the creative world have embraced the challenge of transforming discarded objects into astonishing works of art. Marvel at sculptures meticulously fashioned from scrap metal\, witness intricate collages brought to life from found objects\, and explore the many possibilities of repurposed materials that push the boundaries of artistic expression. \nAs a part of Contemporary Debris\, Valley Art Center’s façade will be adorned with a stunning recycled wall sculpture from Ron Shelton\, which will have a second life following its creation in Riverside Park in April. Ron Shelton\, a Cleveland-based artist known for his remarkable sculptures made from recycled materials\, brings his talent and passion for environmental sustainability to this project. For the full list of artists and more information on this exhibition\, please visit valleyartcenter.org.\n​ \n\nAs an additional highlight of the exhibition\, an Art Talk and Reception titled “The Readymade in Modern and Contemporary Art” will be held on Friday\, October 6 at 6pm in The Bowen Gallery at Valley Art Center. Speaker Sydney Slacas\, J.D. M.A.\, will explore the fascinating concept of found and repurposed objects and their significance in modern and contemporary art\, while surrounded by the art in the gallery space.
URL:https://downtownchagrinfalls.com/event/vac-contemporary-debris/
LOCATION:Valley Art Center\, 155 Bell Street\, Chagrin Falls\, OH\, 44022\, United States
CATEGORIES:Ongoing Exhibits
ATTACH;FMTTYPE=image/png:https://downtownchagrinfalls.com/wp-content/uploads/2023/09/Untitled-design-60.png
END:VEVENT
BEGIN:VEVENT
DTSTART;TZID=America/New_York:20231004T090000
DTEND;TZID=America/New_York:20231004T110000
DTSTAMP:20260419T115308
CREATED:20230927T202403Z
LAST-MODIFIED:20230927T223143Z
UID:10001248-1696410000-1696417200@downtownchagrinfalls.com
SUMMARY:CDFF - Films\, Bagels\, and Coffee - Historical Shorts
DESCRIPTION:Film\, Bagels and Coffee. Take a morning stroll over to the Historical Society to enjoy historical short films.\n$15 individual tickets\, included for members Igniter and above.\nFilms: Carpenter\, Witch Hunt\, and The Syrian Cosmonaut.
URL:https://downtownchagrinfalls.com/event/films-bagels-and-coffee-historical-shorts/
LOCATION:Chagrin History Center\, 87 E. Washington Street\, Chagrin Falls\, OH\, 44022\, United States
CATEGORIES:Film,Food & Drink
ATTACH;FMTTYPE=image/jpeg:https://downtownchagrinfalls.com/wp-content/uploads/2023/09/bagels-and-films.jpeg
ORGANIZER;CN="Chagrin Documentary Film Festival":MAILTO:info@chagrinfilmfest.org
END:VEVENT
BEGIN:VEVENT
DTSTART;TZID=America/New_York:20231004T170000
DTEND;TZID=America/New_York:20231004T190000
DTSTAMP:20260419T115308
CREATED:20230927T204257Z
LAST-MODIFIED:20230928T021705Z
UID:10001249-1696438800-1696446000@downtownchagrinfalls.com
SUMMARY:CDFF - Everyone's A Critic!
DESCRIPTION:YOU can help to choose the winner of CDFF’s “Everyone’s a Critic” award!\nThis is your chance to select the documentary short winner of the Everyone’s a Critic Award! The fun starts at 5:00 PM with appetizers and a cocktail. The films begin at 5:30 PM and voting will occur after each film.\n$30 for individual tickets\, included in memberships Igniter and up.\nSponsored by Merrymeeting Group
URL:https://downtownchagrinfalls.com/event/everyones-a-critic/
LOCATION:Chagrin Valley Little Theatre\, 40 River Street\, Chagrin Falls\, OH\, 44022\, United States
CATEGORIES:Film
ATTACH;FMTTYPE=image/jpeg:https://downtownchagrinfalls.com/wp-content/uploads/2023/09/Everyones-a-Critic.jpeg
ORGANIZER;CN="Chagrin Documentary Film Festival":MAILTO:info@chagrinfilmfest.org
END:VEVENT
BEGIN:VEVENT
DTSTART;TZID=America/New_York:20231004T190000
DTEND;TZID=America/New_York:20231004T210000
DTSTAMP:20260419T115308
CREATED:20230927T204522Z
LAST-MODIFIED:20230928T234704Z
UID:10001250-1696446000-1696453200@downtownchagrinfalls.com
SUMMARY:CDFF Shaken\, Not Stirred
DESCRIPTION:Like secret agent James Bond\, we like our martinis- shaken not stirred. Meet some of the “James Bond” subjects of the film while enjoying Mr. Bond’s favorite drink before the film to celebrate the premier of The Other Fellow.\n$30 individual ticket\, included in their membership for Igniters and up.\nFilm: The Other Fellow\nBond\, James Bond. Author Ian Fleming was on the hunt for a name to call his hero when he came upon a bird book by Philadelphia ornithologist James Bond. The rest is history. Today there are nearly one-million people who carry the name. Not all are happy with their secondhand claim to fame. Some don’t mind\, including a Swedish James Bond who is a 007 impersonator and founder of a museum honoring the famous spy and a British woman who took the name to throw an abusive ex-husband off her trail.
URL:https://downtownchagrinfalls.com/event/cdff-shaken-not-stirred/
LOCATION:Chagrin Valley Little Theatre\, 40 River Street\, Chagrin Falls\, OH\, 44022\, United States
CATEGORIES:Film,Food Drive
ATTACH;FMTTYPE=image/png:https://downtownchagrinfalls.com/wp-content/uploads/2023/09/Untitled-design-45.png
ORGANIZER;CN="Chagrin Documentary Film Festival":MAILTO:info@chagrinfilmfest.org
END:VEVENT
END:VCALENDAR