BEGIN:VCALENDAR
VERSION:2.0
PRODID:-//Downtown Chagrin Falls - ECPv6.15.13.1//NONSGML v1.0//EN
CALSCALE:GREGORIAN
METHOD:PUBLISH
X-ORIGINAL-URL:https://downtownchagrinfalls.com
X-WR-CALDESC:Events for Downtown Chagrin Falls
REFRESH-INTERVAL;VALUE=DURATION:PT1H
X-Robots-Tag:noindex
X-PUBLISHED-TTL:PT1H
BEGIN:VTIMEZONE
TZID:America/New_York
BEGIN:DAYLIGHT
TZOFFSETFROM:-0500
TZOFFSETTO:-0400
TZNAME:EDT
DTSTART:20220313T070000
END:DAYLIGHT
BEGIN:STANDARD
TZOFFSETFROM:-0400
TZOFFSETTO:-0500
TZNAME:EST
DTSTART:20221106T060000
END:STANDARD
BEGIN:DAYLIGHT
TZOFFSETFROM:-0500
TZOFFSETTO:-0400
TZNAME:EDT
DTSTART:20230312T070000
END:DAYLIGHT
BEGIN:STANDARD
TZOFFSETFROM:-0400
TZOFFSETTO:-0500
TZNAME:EST
DTSTART:20231105T060000
END:STANDARD
BEGIN:DAYLIGHT
TZOFFSETFROM:-0500
TZOFFSETTO:-0400
TZNAME:EDT
DTSTART:20240310T070000
END:DAYLIGHT
BEGIN:STANDARD
TZOFFSETFROM:-0400
TZOFFSETTO:-0500
TZNAME:EST
DTSTART:20241103T060000
END:STANDARD
END:VTIMEZONE
BEGIN:VEVENT
DTSTART;VALUE=DATE:20230908
DTEND;VALUE=DATE:20231019
DTSTAMP:20260419T153749
CREATED:20230928T130356Z
LAST-MODIFIED:20231018T220243Z
UID:10001344-1694138400-1697594399@downtownchagrinfalls.com
SUMMARY:VAC: Contemporary Debris
DESCRIPTION:Valley Art Center is thrilled to announce its upcoming exhibition\, Contemporary Debris. This invitational group show will present a remarkable assortment of artwork created with recycled materials\, co-curated by Valley Art Center Assistant Director & Gallery Manager Julie Polsinelli and The Gallery at Lakeland Community College Gallery Coordinator/Exhibition Curator/Installation Designer Mary Urbas. The exhibition will showcase the extraordinary talent of Northeast Ohio artists who embody the spirit of creativity\, resourcefulness\, and environmental consciousness. \nFrom September 8 to October 18\, visitors will be immersed in an assortment of artwork crafted exclusively from recycled materials\, proving that beauty can be found in even the most unexpected places.\nArtists from all corners of the creative world have embraced the challenge of transforming discarded objects into astonishing works of art. Marvel at sculptures meticulously fashioned from scrap metal\, witness intricate collages brought to life from found objects\, and explore the many possibilities of repurposed materials that push the boundaries of artistic expression. \nAs a part of Contemporary Debris\, Valley Art Center’s façade will be adorned with a stunning recycled wall sculpture from Ron Shelton\, which will have a second life following its creation in Riverside Park in April. Ron Shelton\, a Cleveland-based artist known for his remarkable sculptures made from recycled materials\, brings his talent and passion for environmental sustainability to this project. For the full list of artists and more information on this exhibition\, please visit valleyartcenter.org.\n​ \n\nAs an additional highlight of the exhibition\, an Art Talk and Reception titled “The Readymade in Modern and Contemporary Art” will be held on Friday\, October 6 at 6pm in The Bowen Gallery at Valley Art Center. Speaker Sydney Slacas\, J.D. M.A.\, will explore the fascinating concept of found and repurposed objects and their significance in modern and contemporary art\, while surrounded by the art in the gallery space.
URL:https://downtownchagrinfalls.com/event/vac-contemporary-debris/
LOCATION:Valley Art Center\, 155 Bell Street\, Chagrin Falls\, OH\, 44022\, United States
CATEGORIES:Ongoing Exhibits
ATTACH;FMTTYPE=image/png:https://downtownchagrinfalls.com/wp-content/uploads/2023/09/Untitled-design-60.png
END:VEVENT
BEGIN:VEVENT
DTSTART;TZID=America/New_York:20230930T080000
DTEND;TZID=America/New_York:20230930T170000
DTSTAMP:20260419T153749
CREATED:20230928T015235Z
LAST-MODIFIED:20230928T015235Z
UID:10001323-1696060800-1696093200@downtownchagrinfalls.com
SUMMARY:Greenville Inn: Armstrong Bearcat
DESCRIPTION:
URL:https://downtownchagrinfalls.com/event/greenville-inn-armstrong-bearcat/
LOCATION:Greenville Inn\, 7125 Pine Street\, Bainbridge\, OH\, 44022\, United States
CATEGORIES:Live Music
ATTACH;FMTTYPE=image/png:https://downtownchagrinfalls.com/wp-content/uploads/2020/01/Armstrongbearcat.png
END:VEVENT
BEGIN:VEVENT
DTSTART;TZID=America/New_York:20230930T100000
DTEND;TZID=America/New_York:20230930T130000
DTSTAMP:20260419T153749
CREATED:20230928T023433Z
LAST-MODIFIED:20230928T023433Z
UID:10001339-1696068000-1696078800@downtownchagrinfalls.com
SUMMARY:ACT Readiness Workshop
DESCRIPTION:Learn tips and tricks for taking the ACT in a workshop presented by the Huntington Learning Center. #collegeprep \n\n\n\n\n\n\n  \nHigh school students will learn how to prepare for the ACT college test in this workshop. Students will complete practice questions and receive score projections from the Huntington Learning Center.
URL:https://downtownchagrinfalls.com/event/act-readiness-workshop/
LOCATION:Chagrin Falls Public Library\, 100 East Orange Street\, Chagrin Falls\, OH\, 44022\, United States
CATEGORIES:Teens,Workshop
ATTACH;FMTTYPE=image/png:https://downtownchagrinfalls.com/wp-content/uploads/2022/09/Branch_Chagrin_Falls1.png
END:VEVENT
BEGIN:VEVENT
DTSTART;TZID=America/New_York:20230930T110000
DTEND;TZID=America/New_York:20230930T160000
DTSTAMP:20260419T153749
CREATED:20230927T193805Z
LAST-MODIFIED:20230927T193805Z
UID:10001242-1696071600-1696089600@downtownchagrinfalls.com
SUMMARY:Family Fun Day
DESCRIPTION:The Chagrin Falls Merchant Association is excited to announce a Family Fun Day on Saturday\, September 30th\, from 11 am to 4 pm. The community is invited to come out and celebrate with their families “Celebrate with your family in Chagrin\,” This event is going to be filled with activities that are sure to make everyone happy. You can participate in all the fun activities and shop to your heart’s content.\nThe event will feature the princesses Elsa from Frozen and Mirabel from Encanto for a sing-along session. The balloon guy will also be present to make some amazing balloon art. Additionally\, the Euclid Beach Rocket Car will be giving rides for everyone to enjoy.\nFor those who love games\, there will be “BIG” yard games available to play. There will be selfie stations\, chalk and coloring area\, and a dance circle in Riverside Park and Triangle Park.\nMerchant members will be offering exclusive deals that will be placed on a passport/flyer for attendees to enjoy. In addition to the merchant deals\, enjoy a free walking historical tour of the village hosted by the Chagrin Falls Historical Society at 1pm (donations are always accepted ).\nThis event promises to be an exciting day of family fun and community engagement. Make sure to mark your calendars for September 30th\, 2023\, and come out to celebrate “FAMILY” with us in Chagrin. For more information\, please visit our website or our social media pages.
URL:https://downtownchagrinfalls.com/event/family-fun-day/
LOCATION:Chagrin Falls\, Chagrin Falls\, OH\, 44022\, United States
CATEGORIES:Children,Games,Sale
ATTACH;FMTTYPE=image/jpeg:https://downtownchagrinfalls.com/wp-content/uploads/2023/09/Family-Fun-Day.jpeg
END:VEVENT
BEGIN:VEVENT
DTSTART;TZID=America/New_York:20230930T120000
DTEND;TZID=America/New_York:20230930T130000
DTSTAMP:20260419T153749
CREATED:20230928T010945Z
LAST-MODIFIED:20230929T162833Z
UID:10001321-1696075200-1696078800@downtownchagrinfalls.com
SUMMARY:Princess Sing-along
DESCRIPTION:Event features a Princess Sing- Along from 12pm -1pm in Triangle Park!\n\n\nElsa from Frozen and Mirabel from Encanto\n\n\nSee you then!
URL:https://downtownchagrinfalls.com/event/princess-sing-along/
LOCATION:Triangle Park\, Chagrin Falls\, OH\, 44022\, United States
CATEGORIES:Children,Live Music
ATTACH;FMTTYPE=image/jpeg:https://downtownchagrinfalls.com/wp-content/uploads/2023/09/Princess-singalong-new.jpeg
END:VEVENT
BEGIN:VEVENT
DTSTART;TZID=America/New_York:20230930T193000
DTEND;TZID=America/New_York:20230930T220000
DTSTAMP:20260419T153749
CREATED:20230927T222242Z
LAST-MODIFIED:20230929T172601Z
UID:10001279-1696102200-1696111200@downtownchagrinfalls.com
SUMMARY:"1970"
DESCRIPTION:First an acclaimed novel by Scott Lax\, then a movie\, and now a play. CVLT’s 94th Season opens with the world-premiere of “1970”\, a Vietnam War-era “home front” story about young men facing the draft in a small town.
URL:https://downtownchagrinfalls.com/event/1970/2023-09-30/
LOCATION:Chagrin Valley Little Theatre\, 40 River Street\, Chagrin Falls\, OH\, 44022\, United States
CATEGORIES:Theater
ATTACH;FMTTYPE=image/png:https://downtownchagrinfalls.com/wp-content/uploads/2023/09/Untitled-design-49.png
ORGANIZER;CN="Chagrin Valley Little Theatre":MAILTO:cvlt@cvlt.org
END:VEVENT
END:VCALENDAR