BEGIN:VCALENDAR
VERSION:2.0
PRODID:-//Downtown Chagrin Falls - ECPv6.15.13.1//NONSGML v1.0//EN
CALSCALE:GREGORIAN
METHOD:PUBLISH
X-WR-CALNAME:Downtown Chagrin Falls
X-ORIGINAL-URL:https://downtownchagrinfalls.com
X-WR-CALDESC:Events for Downtown Chagrin Falls
REFRESH-INTERVAL;VALUE=DURATION:PT1H
X-Robots-Tag:noindex
X-PUBLISHED-TTL:PT1H
BEGIN:VTIMEZONE
TZID:America/New_York
BEGIN:DAYLIGHT
TZOFFSETFROM:-0500
TZOFFSETTO:-0400
TZNAME:EDT
DTSTART:20220313T070000
END:DAYLIGHT
BEGIN:STANDARD
TZOFFSETFROM:-0400
TZOFFSETTO:-0500
TZNAME:EST
DTSTART:20221106T060000
END:STANDARD
BEGIN:DAYLIGHT
TZOFFSETFROM:-0500
TZOFFSETTO:-0400
TZNAME:EDT
DTSTART:20230312T070000
END:DAYLIGHT
BEGIN:STANDARD
TZOFFSETFROM:-0400
TZOFFSETTO:-0500
TZNAME:EST
DTSTART:20231105T060000
END:STANDARD
BEGIN:DAYLIGHT
TZOFFSETFROM:-0500
TZOFFSETTO:-0400
TZNAME:EDT
DTSTART:20240310T070000
END:DAYLIGHT
BEGIN:STANDARD
TZOFFSETFROM:-0400
TZOFFSETTO:-0500
TZNAME:EST
DTSTART:20241103T060000
END:STANDARD
END:VTIMEZONE
BEGIN:VEVENT
DTSTART;VALUE=DATE:20230908
DTEND;VALUE=DATE:20231019
DTSTAMP:20260419T101756
CREATED:20230928T130356Z
LAST-MODIFIED:20231018T220243Z
UID:10001344-1694138400-1697594399@downtownchagrinfalls.com
SUMMARY:VAC: Contemporary Debris
DESCRIPTION:Valley Art Center is thrilled to announce its upcoming exhibition\, Contemporary Debris. This invitational group show will present a remarkable assortment of artwork created with recycled materials\, co-curated by Valley Art Center Assistant Director & Gallery Manager Julie Polsinelli and The Gallery at Lakeland Community College Gallery Coordinator/Exhibition Curator/Installation Designer Mary Urbas. The exhibition will showcase the extraordinary talent of Northeast Ohio artists who embody the spirit of creativity\, resourcefulness\, and environmental consciousness. \nFrom September 8 to October 18\, visitors will be immersed in an assortment of artwork crafted exclusively from recycled materials\, proving that beauty can be found in even the most unexpected places.\nArtists from all corners of the creative world have embraced the challenge of transforming discarded objects into astonishing works of art. Marvel at sculptures meticulously fashioned from scrap metal\, witness intricate collages brought to life from found objects\, and explore the many possibilities of repurposed materials that push the boundaries of artistic expression. \nAs a part of Contemporary Debris\, Valley Art Center’s façade will be adorned with a stunning recycled wall sculpture from Ron Shelton\, which will have a second life following its creation in Riverside Park in April. Ron Shelton\, a Cleveland-based artist known for his remarkable sculptures made from recycled materials\, brings his talent and passion for environmental sustainability to this project. For the full list of artists and more information on this exhibition\, please visit valleyartcenter.org.\n​ \n\nAs an additional highlight of the exhibition\, an Art Talk and Reception titled “The Readymade in Modern and Contemporary Art” will be held on Friday\, October 6 at 6pm in The Bowen Gallery at Valley Art Center. Speaker Sydney Slacas\, J.D. M.A.\, will explore the fascinating concept of found and repurposed objects and their significance in modern and contemporary art\, while surrounded by the art in the gallery space.
URL:https://downtownchagrinfalls.com/event/vac-contemporary-debris/
LOCATION:Valley Art Center\, 155 Bell Street\, Chagrin Falls\, OH\, 44022\, United States
CATEGORIES:Ongoing Exhibits
ATTACH;FMTTYPE=image/png:https://downtownchagrinfalls.com/wp-content/uploads/2023/09/Untitled-design-60.png
END:VEVENT
BEGIN:VEVENT
DTSTART;TZID=America/New_York:20230929T170000
DTEND;TZID=America/New_York:20230929T190000
DTSTAMP:20260419T101756
CREATED:20230927T234154Z
LAST-MODIFIED:20230927T234154Z
UID:10001304-1696006800-1696014000@downtownchagrinfalls.com
SUMMARY:Market Garden Brewery Fall Beer Sampling
DESCRIPTION:Join us in the Beer Department at Heinen’s Chagrin Falls as we sample three delicious fall beers from Cleveland’s Market Garden Bewery. Featured beers include Heart Cider\, Franklin Castle Pumpkin Spice Ale and Old Zahm Oktoberfest.\nSampling fee applies | Questions? Please contact Heinen’s Chagrin Falls at (440) 424-5108.
URL:https://downtownchagrinfalls.com/event/market-garden-brewery-fall-beer-sampling/
LOCATION:Heinen’s\, 20 Shopping Plaza\, Chagrin Falls\, OH\, 44022\, United States
CATEGORIES:Beer Tasting
ATTACH;FMTTYPE=image/jpeg:https://downtownchagrinfalls.com/wp-content/uploads/2023/09/371805377_10168482782355508_5663566346144063022_n.jpg
END:VEVENT
BEGIN:VEVENT
DTSTART;TZID=America/New_York:20230929T173000
DTEND;TZID=America/New_York:20230929T200000
DTSTAMP:20260419T101756
CREATED:20230928T023901Z
LAST-MODIFIED:20230928T023901Z
UID:10001340-1696008600-1696017600@downtownchagrinfalls.com
SUMMARY:Heinen's: Live Music with the Tritones
DESCRIPTION:
URL:https://downtownchagrinfalls.com/event/heinens-live-music-with-the-tritones/
LOCATION:Heinen’s\, 20 Shopping Plaza\, Chagrin Falls\, OH\, 44022\, United States
CATEGORIES:Live Music
ATTACH;FMTTYPE=image/jpeg:https://downtownchagrinfalls.com/wp-content/uploads/2019/10/heinens-tasting-room.jpg
END:VEVENT
BEGIN:VEVENT
DTSTART;TZID=America/New_York:20230929T193000
DTEND;TZID=America/New_York:20230929T220000
DTSTAMP:20260419T101756
CREATED:20230927T222242Z
LAST-MODIFIED:20230929T172601Z
UID:10001278-1696015800-1696024800@downtownchagrinfalls.com
SUMMARY:"1970"
DESCRIPTION:First an acclaimed novel by Scott Lax\, then a movie\, and now a play. CVLT’s 94th Season opens with the world-premiere of “1970”\, a Vietnam War-era “home front” story about young men facing the draft in a small town.
URL:https://downtownchagrinfalls.com/event/1970/2023-09-29/
LOCATION:Chagrin Valley Little Theatre\, 40 River Street\, Chagrin Falls\, OH\, 44022\, United States
CATEGORIES:Theater
ATTACH;FMTTYPE=image/png:https://downtownchagrinfalls.com/wp-content/uploads/2023/09/Untitled-design-49.png
ORGANIZER;CN="Chagrin Valley Little Theatre":MAILTO:cvlt@cvlt.org
END:VEVENT
BEGIN:VEVENT
DTSTART;TZID=America/New_York:20230929T213000
DTEND;TZID=America/New_York:20230930T000000
DTSTAMP:20260419T101756
CREATED:20230928T015118Z
LAST-MODIFIED:20230928T021252Z
UID:10001322-1696023000-1696032000@downtownchagrinfalls.com
SUMMARY:Greenville Inn: Run Avril Run
DESCRIPTION:
URL:https://downtownchagrinfalls.com/event/greenville-inn-run-avril-run/
LOCATION:Greenville Inn\, 7125 Pine Street\, Bainbridge\, OH\, 44022\, United States
CATEGORIES:Live Music
ATTACH;FMTTYPE=image/jpeg:https://downtownchagrinfalls.com/wp-content/uploads/2020/01/30571419_10156132397330242_1990880730898899926_n.jpg
END:VEVENT
END:VCALENDAR