BEGIN:VCALENDAR
VERSION:2.0
PRODID:-//Downtown Chagrin Falls - ECPv6.15.13.1//NONSGML v1.0//EN
CALSCALE:GREGORIAN
METHOD:PUBLISH
X-WR-CALNAME:Downtown Chagrin Falls
X-ORIGINAL-URL:https://downtownchagrinfalls.com
X-WR-CALDESC:Events for Downtown Chagrin Falls
REFRESH-INTERVAL;VALUE=DURATION:PT1H
X-Robots-Tag:noindex
X-PUBLISHED-TTL:PT1H
BEGIN:VTIMEZONE
TZID:America/New_York
BEGIN:DAYLIGHT
TZOFFSETFROM:-0500
TZOFFSETTO:-0400
TZNAME:EDT
DTSTART:20210314T070000
END:DAYLIGHT
BEGIN:STANDARD
TZOFFSETFROM:-0400
TZOFFSETTO:-0500
TZNAME:EST
DTSTART:20211107T060000
END:STANDARD
BEGIN:DAYLIGHT
TZOFFSETFROM:-0500
TZOFFSETTO:-0400
TZNAME:EDT
DTSTART:20220313T070000
END:DAYLIGHT
BEGIN:STANDARD
TZOFFSETFROM:-0400
TZOFFSETTO:-0500
TZNAME:EST
DTSTART:20221106T060000
END:STANDARD
BEGIN:DAYLIGHT
TZOFFSETFROM:-0500
TZOFFSETTO:-0400
TZNAME:EDT
DTSTART:20230312T070000
END:DAYLIGHT
BEGIN:STANDARD
TZOFFSETFROM:-0400
TZOFFSETTO:-0500
TZNAME:EST
DTSTART:20231105T060000
END:STANDARD
BEGIN:DAYLIGHT
TZOFFSETFROM:-0500
TZOFFSETTO:-0400
TZNAME:EDT
DTSTART:20240310T070000
END:DAYLIGHT
BEGIN:STANDARD
TZOFFSETFROM:-0400
TZOFFSETTO:-0500
TZNAME:EST
DTSTART:20241103T060000
END:STANDARD
END:VTIMEZONE
BEGIN:VEVENT
DTSTART;VALUE=DATE:20221126
DTEND;VALUE=DATE:20230130
DTSTAMP:20260423T214933
CREATED:20221118T154021Z
LAST-MODIFIED:20221118T154021Z
UID:10001231-1669428000-1674957599@downtownchagrinfalls.com
SUMMARY:The Joy of Toys
DESCRIPTION:The Chagrin Falls Historical Society & Museum’s new exhibit “The Joy of Toys: 1890 & Beyond” opens November 26th and will run through January 28th. The holidays are a wonderful time for toys! Take a walk down memory lane and maybe see some of your childhood favorites. This is a family friendly exhibit! It will be fun for the whole family. This exhibit is open to the public during our updated winter hours but you can also make an appointment if you cannot visit during our hours. Admission to the museum is free but donations are appreciated. \n\n\n\nWinter Hours (11/7/2022 through 3/13/2023): \nThursday 2-5pm\nFriday 11am-5pm\nSaturday 11am-3pm\nOr by appointment
URL:https://downtownchagrinfalls.com/event/the-joy-of-toys/
LOCATION:Chagrin History Center\, 87 E. Washington Street\, Chagrin Falls\, OH\, 44022\, United States
CATEGORIES:Ongoing Exhibits
ATTACH;FMTTYPE=image/png:https://downtownchagrinfalls.com/wp-content/uploads/2022/11/Thank-You-Facebook-Post-19.png
ORGANIZER;CN="Chagrin Falls Historical Society":MAILTO:info@chagrinhistory.org
END:VEVENT
BEGIN:VEVENT
DTSTART;TZID=America/New_York:20221127T130000
DTEND;TZID=America/New_York:20221127T150000
DTSTAMP:20260423T214933
CREATED:20221118T015931Z
LAST-MODIFIED:20221118T015931Z
UID:10001197-1669554000-1669561200@downtownchagrinfalls.com
SUMMARY:Book Signing: Bob Walker
DESCRIPTION:Bob Walker\, author of the children’s book Do Kangaroos Have Eyebrows?\, will be signing his book on November 27th from 1-3 pm. \nABOUT THE BOOK\nChildren love to find ways to avoid going to bed. They also love animals. This book combines those two notions\, in which three young children ask their parents several quirky questions about their favorite animals (including sea turtles\, bears\, elephants\, and of course kangaroos!) to put off the inevitable. Bob Walker and illustrator Andrea Turk have combined talents to tell this fun and provocative story\, where every page contains delightful images to inspire young minds. Reviews of the book are uniformity positive\, for example: “[Bob and Andrea] ha[ve] captured the whimsical magic of the late Dr. Seuss.” “We laugh and learn through the pages.” “A fun\, unique story about animal questions only children could dream up.” \nABOUT THE AUTHOR\nBOB WALKER is an international law firm partner\, writer\, musician and singer residing in Reminderville and spending significant time in Los Angeles. He has performed at Cleveland Public Hall\, Quicken Loans Arena\, the House of Blues and countless other venues. “Do Kangaroos Have Eyebrows?” is his first children’s picture book\, illustrated by talented Belfast\, Ireland artist Andrea Turk.
URL:https://downtownchagrinfalls.com/event/book-signing-bob-walker/
LOCATION:Fireside Books\, 29 North Franklin Street\, Chagrin Falls\, OH\, 44022\, United States
CATEGORIES:Book signing
ATTACH;FMTTYPE=image/jpeg:https://downtownchagrinfalls.com/wp-content/uploads/2022/11/IMG_6918.jpeg
END:VEVENT
BEGIN:VEVENT
DTSTART;TZID=America/New_York:20221127T130000
DTEND;TZID=America/New_York:20221127T160000
DTSTAMP:20260423T214933
CREATED:20221118T042232Z
LAST-MODIFIED:20221118T042232Z
UID:10001220-1669554000-1669564800@downtownchagrinfalls.com
SUMMARY:Complimentary Carriage Rides
DESCRIPTION:Sponsored by Chagrin Falls Shopping Plaza
URL:https://downtownchagrinfalls.com/event/complimentary-carriage-rides/2022-11-27/
LOCATION:Chagrin Falls Shopping Plaza
CATEGORIES:Just Fun,Outdoor
ATTACH;FMTTYPE=image/png:https://downtownchagrinfalls.com/wp-content/uploads/2022/11/Thank-You-Facebook-Post-17.png
END:VEVENT
BEGIN:VEVENT
DTSTART;TZID=America/New_York:20221127T140000
DTEND;TZID=America/New_York:20221127T140000
DTSTAMP:20260423T214933
CREATED:20221104T165635Z
LAST-MODIFIED:20221104T173815Z
UID:10001174-1669557600-1669557600@downtownchagrinfalls.com
SUMMARY:Elf The Musical
DESCRIPTION:Your family will love this musical adaptation of the hit Christmas movie of the same name. “Elf” is the story of Buddy\, a human raised by Santa’s elves at the North Pole. When he travels to New York City to seek his real father\, he discovers that his childlike and joyous nature doesn’t always fit in.
URL:https://downtownchagrinfalls.com/event/elf-the-musical-5/
LOCATION:Chagrin Valley Little Theatre\, 40 River Street\, Chagrin Falls\, OH\, 44022\, United States
CATEGORIES:Theater
ATTACH;FMTTYPE=image/png:https://downtownchagrinfalls.com/wp-content/uploads/2022/11/Elf340.png
ORGANIZER;CN="Chagrin Valley Little Theatre":MAILTO:cvlt@cvlt.org
END:VEVENT
END:VCALENDAR