BEGIN:VCALENDAR
VERSION:2.0
PRODID:-//Downtown Chagrin Falls - ECPv6.15.13.1//NONSGML v1.0//EN
CALSCALE:GREGORIAN
METHOD:PUBLISH
X-ORIGINAL-URL:https://downtownchagrinfalls.com
X-WR-CALDESC:Events for Downtown Chagrin Falls
REFRESH-INTERVAL;VALUE=DURATION:PT1H
X-Robots-Tag:noindex
X-PUBLISHED-TTL:PT1H
BEGIN:VTIMEZONE
TZID:America/New_York
BEGIN:DAYLIGHT
TZOFFSETFROM:-0500
TZOFFSETTO:-0400
TZNAME:EDT
DTSTART:20210314T070000
END:DAYLIGHT
BEGIN:STANDARD
TZOFFSETFROM:-0400
TZOFFSETTO:-0500
TZNAME:EST
DTSTART:20211107T060000
END:STANDARD
BEGIN:DAYLIGHT
TZOFFSETFROM:-0500
TZOFFSETTO:-0400
TZNAME:EDT
DTSTART:20220313T070000
END:DAYLIGHT
BEGIN:STANDARD
TZOFFSETFROM:-0400
TZOFFSETTO:-0500
TZNAME:EST
DTSTART:20221106T060000
END:STANDARD
BEGIN:DAYLIGHT
TZOFFSETFROM:-0500
TZOFFSETTO:-0400
TZNAME:EDT
DTSTART:20230312T070000
END:DAYLIGHT
BEGIN:STANDARD
TZOFFSETFROM:-0400
TZOFFSETTO:-0500
TZNAME:EST
DTSTART:20231105T060000
END:STANDARD
END:VTIMEZONE
BEGIN:VEVENT
DTSTART;TZID=America/New_York:20221119T100000
DTEND;TZID=America/New_York:20221119T130000
DTSTAMP:20260424T074207
CREATED:20221118T014642Z
LAST-MODIFIED:20221118T014642Z
UID:10001193-1668852000-1668862800@downtownchagrinfalls.com
SUMMARY:Geauga Fresh Indoor Farmers Market
DESCRIPTION:It’s our 20th Anniversary! We are excited to celebrate the history & future of the market this season. Be sure to stay connected\, so you can see what will be happening this season. It’s going to be a celebration throughout the whole season to remember!\nStarted in 2002 the Geauga Fresh Farmers’ Market is producer-only farmers’ market operating year round in Geauga County. We strive to provide you with fresh\, local and real products made or grown by people you can actually talk to.\nThe purpose of the Geauga Fresh Market is to provide local farmers with a means to sell their produce or value added products directly to consumers\, and to afford consumers the opportunity to buy fresh\, locally grown food. A market that allows farmers to sell directly to consumers will help to support a farm economy in Geauga County. Increasing the profitability of local farms will enable more farms to continue to operate rather than to be lost to development. By promoting the preservation of farmland in Geauga County\, the rural character of the county will remain for all to enjoy.\nBy bringing the freshest Geauga County produce and locally made products to the consumer on a weekly basis the Market will encourage customers to value and understand the benefits of supporting our local agricultural economy. The market aims at educating consumers by reconnecting them with their food and where it comes from\, by providing them with higher quality\, more variety and a sense of seasonality.\nWinter Market\nEvery other Saturday 10 AM – 1 PM\nBi-weekly beginning on November 5\, 2022\n2022 dates: 11/5\, 11/19\, 12/3 & 12/17\n2023 dates: 1/14\, 1/28\, 2/11\, 2/25\, 3/11 & 3/25\nInside Lowe’s Greenhouse\n16540 Chillicothe Rd\nChagrin Falls\, OH 44023
URL:https://downtownchagrinfalls.com/event/geauga-fresh-indoor-farmers-market/2022-11-19/
LOCATION:Lowe’s Greenhouse\, 16540 Chillicothe Road\, Bainbridge\, OH\, 44023\, United States
CATEGORIES:Farmers Market
ATTACH;FMTTYPE=image/jpeg:https://downtownchagrinfalls.com/wp-content/uploads/2022/11/315836534_562379919223742_1721302036665716663_n.jpeg
ORGANIZER;CN="Geauga Fresh Farmers Market":MAILTO:geaugaffm@gmail.com
END:VEVENT
BEGIN:VEVENT
DTSTART;TZID=America/New_York:20221119T100000
DTEND;TZID=America/New_York:20221119T180000
DTSTAMP:20260424T074207
CREATED:20221118T171558Z
LAST-MODIFIED:20221118T171558Z
UID:10001236-1668852000-1668880800@downtownchagrinfalls.com
SUMMARY:Heather Moore Trunk Show
DESCRIPTION:Stop in for our Heather Moore Trunk Show this weekend. Shop for a personalized piece\, or pick up a little something extra from the grab and go selections. So many NEW items added to the collection. \nHedges Designs \n13 N. Franklin ST Chagrin Falls
URL:https://downtownchagrinfalls.com/event/heather-moore-trunk-show/
LOCATION:Hedges\, 13 N Franklin St\,\, Chagrin Falls\, OH\, 44022\, United States
CATEGORIES:Shopping
ATTACH;FMTTYPE=image/jpeg:https://downtownchagrinfalls.com/wp-content/uploads/2022/11/Truck-Show-HM.jpeg
END:VEVENT
BEGIN:VEVENT
DTSTART;TZID=America/New_York:20221119T110000
DTEND;TZID=America/New_York:20221119T140000
DTSTAMP:20260424T074207
CREATED:20221118T023820Z
LAST-MODIFIED:20221118T023820Z
UID:10001204-1668855600-1668866400@downtownchagrinfalls.com
SUMMARY:Remnants and House Global Fashion Pop-Up
DESCRIPTION:Community supporting community\, small businesses supporting small businesses and women supporting women…..\n\n\nRemnants is thrilled to announce our continued collaboration with @houseathudson\n\n\nRemnants & House\nGlobal Fashion Pop Up\nMeet the Maker\nSaturday 11-2pm
URL:https://downtownchagrinfalls.com/event/remnants-and-house-global-fashion-pop-up/
LOCATION:Remnants Bag Company\, 7 N. Franklin Street\, Chagrin Falls\, OH\, 44022\, United States
CATEGORIES:Shopping
ATTACH;FMTTYPE=image/png:https://downtownchagrinfalls.com/wp-content/uploads/2022/11/Thank-You-Facebook-Post-4.png
END:VEVENT
BEGIN:VEVENT
DTSTART;TZID=America/New_York:20221119T193000
DTEND;TZID=America/New_York:20221119T193000
DTSTAMP:20260424T074207
CREATED:20221104T165634Z
LAST-MODIFIED:20221104T175107Z
UID:10001171-1668886200-1668886200@downtownchagrinfalls.com
SUMMARY:Elf The Musical
DESCRIPTION:Your family will love this musical adaptation of the hit Christmas movie of the same name. “Elf” is the story of Buddy\, a human raised by Santa’s elves at the North Pole. When he travels to New York City to seek his real father\, he discovers that his childlike and joyous nature doesn’t always fit in.
URL:https://downtownchagrinfalls.com/event/elf-the-musical-2/
LOCATION:Chagrin Valley Little Theatre\, 40 River Street\, Chagrin Falls\, OH\, 44022\, United States
CATEGORIES:Theater
ATTACH;FMTTYPE=image/png:https://downtownchagrinfalls.com/wp-content/uploads/2022/11/Elf340.png
ORGANIZER;CN="Chagrin Valley Little Theatre":MAILTO:cvlt@cvlt.org
END:VEVENT
BEGIN:VEVENT
DTSTART;TZID=America/New_York:20221119T213000
DTEND;TZID=America/New_York:20221119T213000
DTSTAMP:20260424T074207
CREATED:20221104T165501Z
LAST-MODIFIED:20221104T174808Z
UID:10001160-1668893400-1668893400@downtownchagrinfalls.com
SUMMARY:Live Music: Ace Molar
DESCRIPTION:Fronted by local news celebrity Todd Meany\, these guys play all of your favorite hits no matter which decade you enjoy.
URL:https://downtownchagrinfalls.com/event/live-music-ace-molar/
LOCATION:Greenville Inn\, 7125 Pine Street\, Bainbridge\, OH\, 44022\, United States
CATEGORIES:Live Music
ATTACH;FMTTYPE=image/jpeg:https://downtownchagrinfalls.com/wp-content/uploads/2019/09/AceMolar_Rock_Hall-800x400.jpg
END:VEVENT
END:VCALENDAR